BEGIN:VCALENDAR
VERSION:2.0
PRODID:-//Le Vin Qui Parle - ECPv6.9.0//NONSGML v1.0//EN
CALSCALE:GREGORIAN
METHOD:PUBLISH
X-ORIGINAL-URL:https://www.levinquiparle.fr
X-WR-CALDESC:Évènements pour Le Vin Qui Parle
REFRESH-INTERVAL;VALUE=DURATION:PT1H
X-Robots-Tag:noindex
X-PUBLISHED-TTL:PT1H
BEGIN:VTIMEZONE
TZID:Europe/Paris
BEGIN:DAYLIGHT
TZOFFSETFROM:+0100
TZOFFSETTO:+0200
TZNAME:CEST
DTSTART:20230326T010000
END:DAYLIGHT
BEGIN:STANDARD
TZOFFSETFROM:+0200
TZOFFSETTO:+0100
TZNAME:CET
DTSTART:20231029T010000
END:STANDARD
END:VTIMEZONE
BEGIN:VEVENT
DTSTART;TZID=Europe/Paris:20231111T160000
DTEND;TZID=Europe/Paris:20231111T200000
DTSTAMP:20260419T163348
CREATED:20231106T070034Z
LAST-MODIFIED:20231103T165130Z
UID:10000226-1699718400-1699732800@www.levinquiparle.fr
SUMMARY:Domaine de la Croix Mélier: A la découverte du chenin sous toutes ses formes!
DESCRIPTION:Dominique Weiss\, propriétaire et vigneronne du domaine\, vous présentera ses cuvées élaborées à partir du cépage chenin.\n  \nDans cette partie de la Loire\, le chenin est un cépage roi au profil nuancé. Travaillé en cuve inox\, en demi-muid ou en effervescent\, sa palette aromatique fraiche\, élégante et harmonieuse se révèle dans les vins biologiques de Dominique\, sur les terroirs remarquables de Montlouis-sur-Loire.  \nNous vous attendons au 30 rue Faidherbe à partir de 16h00 et jusqu’à 20h00 pour trinquer et déguster avec Dominique! \n  \nEt en plus\, bénéficiez de -10% sur les cuvées en dégustation !
URL:https://www.levinquiparle.fr/evenement/decouverte-des-vins-liquoreux-sculptes-dans-la-douceur/
LOCATION:Le Vin qui Parle – Faidherbe –\, 30\, rue Faidherbe\, Paris\, 75011\, France
CATEGORIES:Dégustations gratuites
ATTACH;FMTTYPE=image/jpeg:https://www.levinquiparle.fr/wp-content/uploads/2023/10/philippe-et-dominique-Ivancic-vignerons-Montlouis-900px.jpg
ORGANIZER;CN="Le Vin Qui Parle":MAILTO:avotreservice@levinquiparle.fr
END:VEVENT
BEGIN:VEVENT
DTSTART;TZID=Europe/Paris:20231116T160000
DTEND;TZID=Europe/Paris:20231116T200000
DTSTAMP:20260419T163348
CREATED:20231110T070017Z
LAST-MODIFIED:20231108T101354Z
UID:10000235-1700150400-1700164800@www.levinquiparle.fr
SUMMARY:Le Beaujolais nouveau est de sortie\, save the date !
DESCRIPTION:Ils arrivent le 3 ème jeudi du mois de novembre comme chaque année depuis 1951\, les Beaujolais Nouveaux ouvrent le bal du millésime 2023 !  \nCette année\, venez aiguser vos sens pour percevoir les arômes gourmands de fruits rouges et de bonbons du Beaujolais Nouveau. \nDécouvrez les jeunes jus des domaines Thulon\, Joubert et Lacondemine. \nNous vous accueillons avec un verre à la main à partir de 16h00 jusqu’à 20h00.  \n  \n  \nA bientôt au Vin qui parle !
URL:https://www.levinquiparle.fr/evenement/le-beaujolais-nouveau-est-de-sortie-save-the-date-3/
LOCATION:Le Vin qui Parle – St Germain –\, 64 boulevard Saint-Germain\, Paris\, 75005\, France
CATEGORIES:Dégustations gratuites
ATTACH;FMTTYPE=image/jpeg:https://www.levinquiparle.fr/wp-content/uploads/2023/11/Affichette_30x40_BN_2023_ARRIVENT-scaled.jpg
ORGANIZER;CN="Le Vin Qui Parle":MAILTO:avotreservice@levinquiparle.fr
END:VEVENT
BEGIN:VEVENT
DTSTART;TZID=Europe/Paris:20231116T160000
DTEND;TZID=Europe/Paris:20231116T200000
DTSTAMP:20260419T163348
CREATED:20231110T070024Z
LAST-MODIFIED:20231108T101128Z
UID:10000236-1700150400-1700164800@www.levinquiparle.fr
SUMMARY:Le Beaujolais nouveau est de sortie\, save the date !
DESCRIPTION:Ils arrivent le 3 ème jeudi du mois de novembre comme chaque année depuis 1951\, les Beaujolais Nouveaux ouvrent le bal du millésime 2023 !  \nCette année\, venez aiguser vos sens pour percevoir les arômes gourmands de fruits rouges et de bonbons du Beaujolais Nouveau. \nDécouvrez les jeunes jus des domaines Thulon\, Joubert et Lacondemine. \nNous vous accueillons avec un verre à la main à partir de 16h00 jusqu’à 20h00.  \n  \n  \nA bientôt au Vin qui parle !
URL:https://www.levinquiparle.fr/evenement/le-beaujolais-nouveau-est-de-sortie-save-the-date/
LOCATION:Le Vin qui Parle – Nation –\, 12 place de la Nation\, Paris\, 75012\, France
CATEGORIES:Dégustations gratuites
ATTACH;FMTTYPE=image/jpeg:https://www.levinquiparle.fr/wp-content/uploads/2023/11/Affichette_30x40_BN_2023_ARRIVENT-scaled.jpg
ORGANIZER;CN="Le Vin Qui Parle":MAILTO:avotreservice@levinquiparle.fr
END:VEVENT
BEGIN:VEVENT
DTSTART;TZID=Europe/Paris:20231128T203000
DTEND;TZID=Europe/Paris:20231128T223000
DTSTAMP:20260419T163348
CREATED:20220622T105236Z
LAST-MODIFIED:20230919T095000Z
UID:10000207-1701203400-1701210600@www.levinquiparle.fr
SUMMARY:Bordeaux vs Bourgogne : le Choc des Titans ! Le mardi 28 novembre 2023
DESCRIPTION:[vc_row][vc_column][vc_column_text]Bordeaux ou Bourgogne ? \nDifficile pour les oenophiles de trancher entre ces deux régions viticoles tant elles produisent des nectars tout à la fois différents et divins ! \nVenez découvrir de grands vins de Bourgogne et de Bordeaux\, écouter l’histoire de nos vignerons\, apprendre ludiquement et comparer les styles ! \nEn petit groupe limité à 12 personnes\, 5 verres de vins blancs et rouges vous seront servis accompagnés de planches de charcuterie du Sud-Ouest et de fromages de chez Stéphane Prémat (L’Univers du Fromage). Le 5e vin proposé sera soumis au vote final… alors\, serez-vous plutôt Bourgogne ou Bordeaux ? \nBénéficiez également de -15% sur nos cuvées le soir de la dégustation.[/vc_column_text][/vc_column][/vc_row]
URL:https://www.levinquiparle.fr/evenement/8706/
LOCATION:Le Vin qui Parle – Faidherbe –\, 30\, rue Faidherbe\, Paris\, 75011\, France
CATEGORIES:Dégustations payantes
ATTACH;FMTTYPE=image/jpeg:https://www.levinquiparle.fr/wp-content/uploads/2022/06/Bordeaux-vs-Bourgogne-boxe.jpeg
ORGANIZER;CN="Le Vin Qui Parle":MAILTO:avotreservice@levinquiparle.fr
END:VEVENT
END:VCALENDAR