BEGIN:VCALENDAR
VERSION:2.0
PRODID:-//Le Vin Qui Parle - ECPv6.9.0//NONSGML v1.0//EN
CALSCALE:GREGORIAN
METHOD:PUBLISH
X-WR-CALNAME:Le Vin Qui Parle
X-ORIGINAL-URL:https://www.levinquiparle.fr
X-WR-CALDESC:Évènements pour Le Vin Qui Parle
REFRESH-INTERVAL;VALUE=DURATION:PT1H
X-Robots-Tag:noindex
X-PUBLISHED-TTL:PT1H
BEGIN:VTIMEZONE
TZID:Europe/Paris
BEGIN:DAYLIGHT
TZOFFSETFROM:+0100
TZOFFSETTO:+0200
TZNAME:CEST
DTSTART:20230326T010000
END:DAYLIGHT
BEGIN:STANDARD
TZOFFSETFROM:+0200
TZOFFSETTO:+0100
TZNAME:CET
DTSTART:20231029T010000
END:STANDARD
END:VTIMEZONE
BEGIN:VEVENT
DTSTART;TZID=Europe/Paris:20230302T203000
DTEND;TZID=Europe/Paris:20230302T223000
DTSTAMP:20260420T052350
CREATED:20221029T143611Z
LAST-MODIFIED:20230211T141721Z
UID:10000141-1677789000-1677796200@www.levinquiparle.fr
SUMMARY:Soirée Match France VS Amérique du Sud - jeudi 2 mars
DESCRIPTION:[vc_row][vc_column][vc_column_text]Pour cette soirée dégustation venez découvrir l’histoire des vins de France et des vins d’Amérique du Sud. \nLa France est souvent considérée comme le « pays du vin »\, et est très réputée pour la qualité de ses vins. Elle dispose des plus anciens vignobles du monde. Toutefois  la culture du vin est également profondément enracinée en Amérique du Sud. Venez découvrir ces régions viticoles prometteuses et comparer leurs cépages et styles de vins. \nAlors\, plutôt latino ou plutôt franchouillard ? à vous de décider à l’issue de cette soirée ! \nEn petit groupe limité à 12 personnes\,  la dégustation se déroule autour de 5 vins\, accompagnés de planches de charcuteries du Sud-Ouest et de fromages de chez Stéphane Prémat (L’Univers du fromage). \n  \nBénéficiez également de -15% sur nos cuvées le soir de la dégustation. [/vc_column_text][/vc_column][/vc_row]
URL:https://www.levinquiparle.fr/evenement/soiree-match-france-vs-amerique-du-sud/
LOCATION:Le Vin qui Parle – Faidherbe –\, 30\, rue Faidherbe\, Paris\, 75011\, France
CATEGORIES:Dégustations payantes
ATTACH;FMTTYPE=image/png:https://www.levinquiparle.fr/wp-content/uploads/2022/10/1.png
ORGANIZER;CN="Le Vin Qui Parle":MAILTO:avotreservice@levinquiparle.fr
END:VEVENT
BEGIN:VEVENT
DTSTART;TZID=Europe/Paris:20230309T173000
DTEND;TZID=Europe/Paris:20230309T200000
DTSTAMP:20260420T052350
CREATED:20230222T170649Z
LAST-MODIFIED:20230228T083730Z
UID:10000150-1678383000-1678392000@www.levinquiparle.fr
SUMMARY:Dégustation libre et gratuite : virée en Pays Nantais
DESCRIPTION:Vous rêvez de découvrir des cépages 100% locaux\, des étiquettes 100% hautes en couleurs\, un vigneron très engagé et enthousiaste\, des vins au profils très originaux et diversifiés ? \nVous êtes au bon endroit ! \nCe jeudi 9 mars\, Jean-Gabriel\, vigneron du domaine des Hautes Noëlles\, va délecter vos papilles. \nGrolleau noir\, égiodola\, assemblage original\, chardonnay en barrique ou melon de bourgogne… de quoi aiguiser votre curiosité et revisiter complètement votre perception des vins du pays du Muscadet ! \nNous vous attendons nombreux et un verre à la main dans notre cave de Saint-Germain-des-Prés 😉 \n  \nEt en plus\, bénéficiez de -15% sur les cuvées en dégustation !
URL:https://www.levinquiparle.fr/evenement/degustation-libre-et-gratuite-viree-en-pays-de-la-loire/
LOCATION:Le Vin qui Parle – St Germain –\, 64 boulevard Saint-Germain\, Paris\, 75005\, France
CATEGORIES:Dégustations gratuites
ATTACH;FMTTYPE=image/jpeg:https://www.levinquiparle.fr/wp-content/uploads/2023/02/Equipe_hautes-noelles.jpg
ORGANIZER;CN="Le Vin Qui Parle":MAILTO:avotreservice@levinquiparle.fr
END:VEVENT
BEGIN:VEVENT
DTSTART;TZID=Europe/Paris:20230310T173000
DTEND;TZID=Europe/Paris:20230310T200000
DTSTAMP:20260420T052350
CREATED:20230222T170832Z
LAST-MODIFIED:20230228T083729Z
UID:10000151-1678469400-1678478400@www.levinquiparle.fr
SUMMARY:Dégustation libre et gratuite : virée en Pays Nantais
DESCRIPTION:Vous rêvez de découvrir des cépages 100% locaux\, des étiquettes 100% hautes en couleurs\, un vigneron très engagé et enthousiaste\, des vins au profils très originaux et diversifiés ? \nVous êtes au bon endroit ! \nCe jeudi 9 mars\, Jean-Gabriel\, vigneron du domaine des Hautes Noëlles\, va délecter vos papilles. \nGrolleau noir\, égiodola\, assemblage original\, chardonnay en barrique ou melon de bourgogne… de quoi aiguiser votre curiosité et revisiter complètement votre perception des vins du pays du Muscadet ! \nNous vous attendons nombreux et un verre à la main dans notre cave de Nation 😉 \n  \nEt en plus\, bénéficiez de -15% sur les cuvées en dégustation !
URL:https://www.levinquiparle.fr/evenement/degustation-libre-et-gratuite-viree-en-pays-de-la-loire-2/
LOCATION:Le Vin qui Parle – Nation –\, 12 place de la Nation\, Paris\, 75012\, France
CATEGORIES:Dégustations gratuites
ATTACH;FMTTYPE=image/jpeg:https://www.levinquiparle.fr/wp-content/uploads/2023/02/Equipe_hautes-noelles.jpg
ORGANIZER;CN="Le Vin Qui Parle":MAILTO:avotreservice@levinquiparle.fr
END:VEVENT
BEGIN:VEVENT
DTSTART;TZID=Europe/Paris:20230321T203000
DTEND;TZID=Europe/Paris:20230321T223000
DTSTAMP:20260420T052350
CREATED:20221118T173007Z
LAST-MODIFIED:20230302T160052Z
UID:10000144-1679430600-1679437800@www.levinquiparle.fr
SUMMARY:Soirée dégustation Languedoc vs Roussillon - mardi 21 mars
DESCRIPTION:[vc_row][vc_column][vc_column_text]A la découverte du Languedoc et du Roussillon : venez découvrir leurs différences ! \nParmi les plus grandes régions productrices de vin en France\, le Languedoc-Roussillon surprend par sa variété. \nLors de cette soirée d’hiver chaleureuse en bonne compagnie (la nôtre bien sûr :p mais surtout celle de belles bouteilles et de bons fromages et charcuteries artisanaux)\, nous vous inviterons à comparer les vins du Languedoc à ceux du Languedoc. \nVous comprendrez avec votre nez et votre palais toute la différence de terroirs qui s’exprime entre ces deux régions… \nAlors\, prêts à la bataille ? \n  \nBénéficiez également de -15% sur nos cuvées le soir de la dégustation. [/vc_column_text][/vc_column][/vc_row]
URL:https://www.levinquiparle.fr/evenement/soiree-degustation-languedoc-vs-roussillon/
LOCATION:Le Vin qui Parle – Faidherbe –\, 30\, rue Faidherbe\, Paris\, 75011\, France
CATEGORIES:Dégustations payantes
ATTACH;FMTTYPE=image/png:https://www.levinquiparle.fr/wp-content/uploads/2022/11/DPI-Languedoc-Roussillon.png
ORGANIZER;CN="Le Vin Qui Parle":MAILTO:avotreservice@levinquiparle.fr
END:VEVENT
END:VCALENDAR