BEGIN:VCALENDAR
VERSION:2.0
PRODID:-//Le Vin Qui Parle - ECPv6.9.0//NONSGML v1.0//EN
CALSCALE:GREGORIAN
METHOD:PUBLISH
X-ORIGINAL-URL:https://www.levinquiparle.fr
X-WR-CALDESC:Évènements pour Le Vin Qui Parle
REFRESH-INTERVAL;VALUE=DURATION:PT1H
X-Robots-Tag:noindex
X-PUBLISHED-TTL:PT1H
BEGIN:VTIMEZONE
TZID:Europe/Paris
BEGIN:DAYLIGHT
TZOFFSETFROM:+0100
TZOFFSETTO:+0200
TZNAME:CEST
DTSTART:20220327T010000
END:DAYLIGHT
BEGIN:STANDARD
TZOFFSETFROM:+0200
TZOFFSETTO:+0100
TZNAME:CET
DTSTART:20221030T010000
END:STANDARD
END:VTIMEZONE
BEGIN:VEVENT
DTSTART;TZID=Europe/Paris:20220407T203000
DTEND;TZID=Europe/Paris:20220407T223000
DTSTAMP:20260419T181146
CREATED:20211211T130122Z
LAST-MODIFIED:20220322T125830Z
UID:10000181-1649363400-1649370600@www.levinquiparle.fr
SUMMARY:Battle vins rouges légers vs. vins rouges puissants
DESCRIPTION:[vc_row][vc_column][vc_column_text]Vous vous demandez quelle est la vraie différence entre un vin rouge léger et un vin rouge puissant ? \nCe n’est pas qu’une question de tannins ou de degré d’alcool 😉 \nVenez comprendre ce soir la notion de puissance et légèreté dans les vins rouges… En voyant\, sentant\, goûtant\, et comparant ! \nEn petit groupe limité à 10 personnes\, la dégustation se déroule autour de 5 vins\, accompagnés de planches de charcuterie du Sud-Ouest et de fromages de chez Stéphane Prémat (L’Univers du Fromage). \nBénéficiez également de -15% sur nos cuvées le soir de la dégustation.[/vc_column_text][/vc_column][/vc_row]
URL:https://www.levinquiparle.fr/evenement/battle-vins-rouges-legers-vs-vins-rouges-puissants/
LOCATION:Le Vin qui Parle – Faidherbe –\, 30\, rue Faidherbe\, Paris\, 75011\, France
CATEGORIES:Dégustations payantes
ATTACH;FMTTYPE=image/jpeg:https://www.levinquiparle.fr/wp-content/uploads/2017/02/30102013-_MG_9293-scaled-e1655893555154.jpg
ORGANIZER;CN="Le Vin Qui Parle":MAILTO:avotreservice@levinquiparle.fr
END:VEVENT
BEGIN:VEVENT
DTSTART;TZID=Europe/Paris:20220408T173000
DTEND;TZID=Europe/Paris:20220408T200000
DTSTAMP:20260419T181146
CREATED:20220221T161209Z
LAST-MODIFIED:20220221T163021Z
UID:10000194-1649439000-1649448000@www.levinquiparle.fr
SUMMARY:Sur les Chenins de la Loire\, à Vouvray
DESCRIPTION:[vc_row][vc_column][vc_column_text] \nDégustation libre et gratuite : Découvrez les chenins de Mathieu Cosme !\n\nA tous les fans de chenin blanc\, cette dégustation est à inscrire dans vos tablettes ! \nCe vendredi 8 avril\, nous accueillons Mathieu Cosme\, vigneron à Vouvray\, tout près du Château d’Amboise.  \nSon domaine\, le Domaine de Beaumont\, existe depuis 1930. Mathieu représente la 5e génération de vigneron à en récolter les fruits. \nLe terroir\, situé sur des coteaux le long de la Loire\, est composé de sols argileux avec la présence de silex et le sous-sol est fait de calcaire\, plus souvent appelé Tuffeau. \nIci\, le cheval et le vigneron accomplissent ensemble les labours dans les vieilles vignes de chenin. \nLe vignoble est intégralement conduit selon les principes de l’agriculture biologique depuis 2010\, avec une conversion officielle depuis 2014 pour une labellisation en 2017. De ce fait\, plus aucun désherbant et autre produit de synthèse ne sont utilisés depuis 2007\, date également depuis laquelle tous les sols sont travaillés à l’ancienne. \nVous êtes bienvenus pour rencontrer Mathieu\, poser toutes vos questions et déguster ses trois cuvées vouvrillonnes (un effervescent et deux vins blancs secs). A vos chenins ! \n\n\n\nPrésentation du pass sanitaire obligatoire. \n\n\nCuvées en dégustation : \n\nFines Bulles\, AOC Vouvray (effervescent) – millésime 2019\nLes Promenards\, AOC Vouvray (vin blanc sec) – millésime 2021 en exclusivité\, tout droit sortie de cuve\nLes Enfers\, AOC Vouvray (vin blanc sec) – millésime 2020 \n\n-15% sur les cuvées en dégustation [/vc_column_text][/vc_column][/vc_row]
URL:https://www.levinquiparle.fr/evenement/sur-les-chenins-de-la-loire-a-vouvray/
LOCATION:Le Vin qui Parle – Nation –\, 12 place de la Nation\, Paris\, 75012\, France
CATEGORIES:Dégustations gratuites
ATTACH;FMTTYPE=image/jpeg:https://www.levinquiparle.fr/wp-content/uploads/2022/02/Labour-Cheval-Mathieu-Cosme.jpg
ORGANIZER;CN="Le Vin Qui Parle":MAILTO:avotreservice@levinquiparle.fr
END:VEVENT
BEGIN:VEVENT
DTSTART;TZID=Europe/Paris:20220409T103000
DTEND;TZID=Europe/Paris:20220409T130000
DTSTAMP:20260419T181146
CREATED:20220221T163221Z
LAST-MODIFIED:20220221T163419Z
UID:10000195-1649500200-1649509200@www.levinquiparle.fr
SUMMARY:Sur les Chenins de la Loire\, à Vouvray
DESCRIPTION:[vc_row][vc_column][vc_column_text] \nDégustation libre et gratuite : Découvrez les chenins de Mathieu Cosme !\n\nA tous les fans de chenin blanc\, cette dégustation est à inscrire dans vos tablettes ! \nCe samedi 9 avril\, nous accueillons Mathieu Cosme\, vigneron à Vouvray\, tout près du Château d’Amboise.  \nSon domaine\, le Domaine de Beaumont\, existe depuis 1930. Mathieu représente la 5e génération de vigneron à en récolter les fruits. \nLe terroir\, situé sur des coteaux le long de la Loire\, est composé de sols argileux avec la présence de silex et le sous-sol est fait de calcaire\, plus souvent appelé Tuffeau. \nIci\, le cheval et le vigneron accomplissent ensemble les labours dans les vieilles vignes de chenin. \nLe vignoble est intégralement conduit selon les principes de l’agriculture biologique depuis 2010\, avec une conversion officielle depuis 2014 pour une labellisation en 2017. De ce fait\, plus aucun désherbant et autre produit de synthèse ne sont utilisés depuis 2007\, date également depuis laquelle tous les sols sont travaillés à l’ancienne. \nVous êtes bienvenus pour rencontrer Mathieu\, poser toutes vos questions et déguster ses trois cuvées vouvrillonnes (un effervescent et deux vins blancs secs). A vos chenins ! \n\n\n\nPrésentation du pass sanitaire obligatoire. \n  \n\n\nCuvées en dégustation : \n\nFines Bulles\, AOC Vouvray (effervescent) – millésime 2019\nLes Promenards\, AOC Vouvray (vin blanc sec) – millésime 2021 en exclusivité\, tout droit sortie de cuve\nLes Enfers\, AOC Vouvray (vin blanc sec) – millésime 2020 \n\n-15% sur les cuvées en dégustation [/vc_column_text][/vc_column][/vc_row]
URL:https://www.levinquiparle.fr/evenement/sur-les-chenins-de-la-loire-a-vouvray-faidherbe/
LOCATION:Le Vin qui Parle – Faidherbe –\, 30\, rue Faidherbe\, Paris\, 75011\, France
CATEGORIES:Dégustations gratuites
ATTACH;FMTTYPE=image/jpeg:https://www.levinquiparle.fr/wp-content/uploads/2022/02/Labour-Cheval-Mathieu-Cosme.jpg
ORGANIZER;CN="Le Vin Qui Parle":MAILTO:avotreservice@levinquiparle.fr
END:VEVENT
BEGIN:VEVENT
DTSTART;TZID=Europe/Paris:20220414T173000
DTEND;TZID=Europe/Paris:20220414T200000
DTSTAMP:20260419T181146
CREATED:20220324T153723Z
LAST-MODIFIED:20220324T160121Z
UID:10000125-1649957400-1649966400@www.levinquiparle.fr
SUMMARY:L'horizontale de Vacqueyras du Clos de Caveau
DESCRIPTION:[vc_row][vc_column][vc_column_text] \nDégustation libre et gratuite : autant de Vacqueyras (et autres pépites) que de parcelles ! \n\nDepuis qu’il a endossé l’habit de Vigneron au Clos de Caveau\, à Vacqueyras\, Henri Bungener étudie son terroir au microscope. \nIl faut dire qu’avant de reprendre le domaine de ses parents\, il était docteur en psychologie à Londres… une belle déformation professionnelle 😉 \nSon père a acheté le vignoble en 1976 et a été l’un des précurseurs de la culture biologique à l’époque. A flanc de coteaux des Dentelles de Montmirail\, l’endroit est splendide et le terroir est d’une rare complexité. Henri Bungener le fait parler en réalisant un important travail d’identification parcellaire. Trois cuvées fort différentes de Vacqueyras seront ainsi proposées à la dégustation et comparées. \nEn parallèle\, vous pourrez découvrir l’excellent blanc sec “Le Mistralet”\, à base de l’aromatique muscat blanc à petits grains\, ainsi que l’AOP Côtes-du-Rhône “Les Bateliers” et le Gigondas “Champvermeil”. \n\nDamien Verriele\, assistant et commercial au domaine\, sera présent pour tout vous expliquer.  Soyez bienvenu(e)s ! \n\n\n\n\n\n\nCuvées en dégustation : \n\nLe Mistralet\, Vin de France (vin blanc sec à base de muscat blanc à petits grains)\nLes Bateliers 2020\, AOP Côtes-du-Rhône\nFruits Sauvages 2020\, AOP Vacqueyras\nLao Muse 2016\, AOP Vacqueyras\nCarmin Brillant 2018\, AOP Vacqueyras\nChampvermeil 2018\,  AOP Gigondas\n\n-15% sur les cuvées en dégustation [/vc_column_text][/vc_column][/vc_row]
URL:https://www.levinquiparle.fr/evenement/horizontale-de-vacqueyras-du-clos-de-caveau/
LOCATION:Le Vin qui Parle – Nation –\, 12 place de la Nation\, Paris\, 75012\, France
CATEGORIES:Dégustations gratuites
ATTACH;FMTTYPE=image/jpeg:https://www.levinquiparle.fr/wp-content/uploads/2022/03/clos-de-caveau.jpg
ORGANIZER;CN="Le Vin Qui Parle":MAILTO:avotreservice@levinquiparle.fr
END:VEVENT
BEGIN:VEVENT
DTSTART;TZID=Europe/Paris:20220415T173000
DTEND;TZID=Europe/Paris:20220415T200000
DTSTAMP:20260419T181146
CREATED:20220324T160322Z
LAST-MODIFIED:20220324T160322Z
UID:10000126-1650043800-1650052800@www.levinquiparle.fr
SUMMARY:L'horizontale de Vacqueyras du Clos de Caveau
DESCRIPTION:[vc_row][vc_column][vc_column_text] \nDégustation libre et gratuite : autant de Vacqueyras (et autres pépites) que de parcelles ! \n\nDepuis qu’il a endossé l’habit de Vigneron au Clos de Caveau\, à Vacqueyras\, Henri Bungener étudie son terroir au microscope. \nIl faut dire qu’avant de reprendre le domaine de ses parents\, il était docteur en psychologie à Londres… une belle déformation professionnelle 😉 \nSon père a acheté le vignoble en 1976 et a été l’un des précurseurs de la culture biologique à l’époque. A flanc de coteaux des Dentelles de Montmirail\, l’endroit est splendide et le terroir est d’une rare complexité. Henri Bungener le fait parler en réalisant un important travail d’identification parcellaire. Trois cuvées fort différentes de Vacqueyras seront ainsi proposées à la dégustation et comparées. \nEn parallèle\, vous pourrez découvrir l’excellent blanc sec “Le Mistralet”\, à base de l’aromatique muscat blanc à petits grains\, ainsi que l’AOP Côtes-du-Rhône “Les Bateliers” et le Gigondas “Champvermeil”. \n\nDamien Verriele\, assistant et commercial au domaine\, sera présent pour tout vous expliquer.  Soyez bienvenu(e)s ! \n\n\n\n\n\n\nCuvées en dégustation : \n\nLe Mistralet\, Vin de France (vin blanc sec à base de muscat blanc à petits grains)\nLes Bateliers 2020\, AOP Côtes-du-Rhône\nFruits Sauvages 2020\, AOP Vacqueyras\nLao Muse 2016\, AOP Vacqueyras\nCarmin Brillant 2018\, AOP Vacqueyras\nChampvermeil 2018\,  AOP Gigondas\n\n-15% sur les cuvées en dégustation [/vc_column_text][/vc_column][/vc_row]
URL:https://www.levinquiparle.fr/evenement/lhorizontale-de-vacqueyras-du-clos-de-caveau/
LOCATION:Le Vin qui Parle – Faidherbe –\, 30\, rue Faidherbe\, Paris\, 75011\, France
CATEGORIES:Dégustations gratuites
ATTACH;FMTTYPE=image/jpeg:https://www.levinquiparle.fr/wp-content/uploads/2022/03/clos-de-caveau.jpg
ORGANIZER;CN="Le Vin Qui Parle":MAILTO:avotreservice@levinquiparle.fr
END:VEVENT
BEGIN:VEVENT
DTSTART;TZID=Europe/Paris:20220428T173000
DTEND;TZID=Europe/Paris:20220428T200000
DTSTAMP:20260419T181146
CREATED:20220319T183411Z
LAST-MODIFIED:20220420T115802Z
UID:10000201-1651167000-1651176000@www.levinquiparle.fr
SUMMARY:Les cuvées éphémères de Stéphane Sérol
DESCRIPTION:[vc_row][vc_column][vc_column_text] \nDégustation libre et gratuite : 2021\, l’année des cuvées éphémères chez Sérol \nNous avons l’honneur de recevoir Stéphane Sérol à Nation ce jeudi 28 avril 🙂 \nSon domaine est situé dans l’AOP Côte Roannaise\, qui constitue l’un des premiers vignobles de la vallée de la Loire. \nL’exploitation est ici familiale de génération en génération depuis le XVIIème siècle. Depuis 1996\, Stéphane et son épouse Carine ont converti le domaine à l’agriculture biologique puis à la biodynamie. \nL’année 2021 et son gel inédit ont été ici sources de beaucoup d’innovations : à défaut de récolter suffisamment de raisins\, Stéphane a été chercher les meilleurs raisins de vignerons partenaires pour élaborer des cuvées éphémères d’une grande réussite. \nVenez le rencontrer et les déguster ! \n\n\n\nCuvées en dégustation : \n\nTurbullent\, Rosé pétillant réalisé en méthode ancestrale.\nPourquoi Faire Sans Blanc\, Vin de France\, Cuvée de chenin récoltée sur terroirs d’altitude et en réponse au gel\, 2021\nChamptoisé 2020\, IGP Pays d’Urfé\, parcelle de chenin sur sol granitique (vin blanc sec)\nMelting Potes\, Vin de France\, vin rouge en réponse au gel\, 2021 (assemblage à base de Gamay / Syrah / Grenache)\nEclat de granite\, AOC Côte Roannaise\, 2021 (vin rouge à base de gamay St Romain)\nLes Millerands\, AOP Côte Roannaise \, 2020 (vin rouge à base de gamay St Romain)\n\n-15% sur les cuvées en dégustation [/vc_column_text][/vc_column][/vc_row]
URL:https://www.levinquiparle.fr/evenement/les-cuvees-ephemeres-de-stephane-serol/
LOCATION:Le Vin qui Parle – Nation –\, 12 place de la Nation\, Paris\, 75012\, France
CATEGORIES:Dégustations gratuites
ATTACH;FMTTYPE=image/png:https://www.levinquiparle.fr/wp-content/uploads/2022/03/Degustation-libre-SEROL.png
ORGANIZER;CN="Le Vin Qui Parle":MAILTO:avotreservice@levinquiparle.fr
END:VEVENT
BEGIN:VEVENT
DTSTART;TZID=Europe/Paris:20220429T173000
DTEND;TZID=Europe/Paris:20220429T200000
DTSTAMP:20260419T181146
CREATED:20220320T082346Z
LAST-MODIFIED:20220420T115743Z
UID:10000202-1651253400-1651262400@www.levinquiparle.fr
SUMMARY:Les cuvées éphémères de Stéphane Sérol
DESCRIPTION:[vc_row][vc_column][vc_column_text] \nDégustation libre et gratuite : 2021\, l’année des cuvées éphémères chez Sérol \nNous avons l’honneur de recevoir Stéphane Sérol à Faidherbe ce vendredi 29 avril 🙂 \nSon domaine est situé dans l’AOP Côte Roannaise\, qui constitue l’un des premiers vignobles de la vallée de la Loire. \nL’exploitation est ici familiale de génération en génération depuis le XVIIème siècle. Depuis 1996\, Stéphane et son épouse Carine ont converti le domaine à l’agriculture biologique puis à la biodynamie. \nL’année 2021 et son gel inédit ont été ici sources de beaucoup d’innovations : à défaut de récolter suffisamment de raisins\, Stéphane a été chercher les meilleurs raisins de vignerons partenaires pour élaborer des cuvées éphémères d’une grande réussite. \nVenez le rencontrer et les déguster ! \n\n\n\nCuvées en dégustation : \n\nTurbullent\, Rosé pétillant réalisé en méthode ancestrale.\nPourquoi Faire Sans Blanc\, Vin de France\, Cuvée de chenin récoltée sur terroirs d’altitude et en réponse au gel\, 2021\nChamptoisé 2020\, IGP Pays d’Urfé\, parcelle de chenin sur sol granitique (vin blanc sec)\nMelting Potes\, Vin de France\, vin rouge en réponse au gel\, 2021 (assemblage à base de Gamay / Syrah / Grenache)\nEclat de granite\, AOC Côte Roannaise\, 2021 (vin rouge à base de gamay St Romain)\nLes Millerands\, AOP Côte Roannaise \, 2020 (vin rouge à base de gamay St Romain)\n\n-15% sur les cuvées en dégustation [/vc_column_text][/vc_column][/vc_row]
URL:https://www.levinquiparle.fr/evenement/les-cuvees-ephemeres-de-stephane-serol-2/
LOCATION:Le Vin qui Parle – Faidherbe –\, 30\, rue Faidherbe\, Paris\, 75011\, France
CATEGORIES:Dégustations gratuites
ATTACH;FMTTYPE=image/png:https://www.levinquiparle.fr/wp-content/uploads/2022/03/Degustation-libre-SEROL.png
ORGANIZER;CN="Le Vin Qui Parle":MAILTO:avotreservice@levinquiparle.fr
END:VEVENT
END:VCALENDAR