BEGIN:VCALENDAR
VERSION:2.0
PRODID:-//Le Vin Qui Parle - ECPv6.9.0//NONSGML v1.0//EN
CALSCALE:GREGORIAN
METHOD:PUBLISH
X-ORIGINAL-URL:https://www.levinquiparle.fr
X-WR-CALDESC:Évènements pour Le Vin Qui Parle
REFRESH-INTERVAL;VALUE=DURATION:PT1H
X-Robots-Tag:noindex
X-PUBLISHED-TTL:PT1H
BEGIN:VTIMEZONE
TZID:Europe/Paris
BEGIN:DAYLIGHT
TZOFFSETFROM:+0100
TZOFFSETTO:+0200
TZNAME:CEST
DTSTART:20220327T010000
END:DAYLIGHT
BEGIN:STANDARD
TZOFFSETFROM:+0200
TZOFFSETTO:+0100
TZNAME:CET
DTSTART:20221030T010000
END:STANDARD
END:VTIMEZONE
BEGIN:VEVENT
DTSTART;TZID=Europe/Paris:20220303T173000
DTEND;TZID=Europe/Paris:20220303T200000
DTSTAMP:20260419T195238
CREATED:20220124T184759Z
LAST-MODIFIED:20220125T102127Z
UID:10000188-1646328600-1646337600@www.levinquiparle.fr
SUMMARY:Le merveilleux renouveau des vins de Bergerac
DESCRIPTION:[vc_row][vc_column][vc_column_text] \nDégustation libre et gratuite : les vins bergeracois des Hauts de Caillevel\n\nAu Vin qui Parle\, nous avons été séduits par le château des Hauts de Caillevel\, dans le Sud du Bergerac\, en Dordogne. \nEtendu sur 18 hectares autour de paysages à couper le souffle\, ce domaine propose des vins incroyables de précision et d’arômes. Pas moins de 11 cépages sont représentés ici (sauvignon\, ugni blanc\, chenin\, merlot\, malbec\, cabernets\,…). Pas étonnant qu’il soit question de reconnaître des grands crus dans cette région ! \nPierre-Etienne et Charlotte Serey ont repris le domaine des Hauts de Caillevel en 2018. Passionnés par la nature\, ils se sont installés ici avec leurs 4 jeunes enfants après avoir travaillé 8 ans dans l’ingénierie aéronautique et dans la gestion de librairie. \n\n\nUne reconversion qui apporte beaucoup de fraîcheur à leurs vins. \nNous vous invitons à venir les découvrir ce jeudi 3 mars dans notre cave du 11e. \nEt à poser toutes vos questions à Pierre-Etienne\, que vous vouliez vous reconvertir au métier de vigneron\, ou pas ! 😉 \nPrésentation du pass sanitaire obligatoire. \n\n\nCuvées en dégustation : \n\nFruissance 2019\nFleur de Roche 2018\nL’Atypique 2018\nTerres Chaudes 2018\n\n-15% sur les cuvées en dégustation [/vc_column_text][/vc_column][/vc_row]
URL:https://www.levinquiparle.fr/evenement/le-merveilleux-renouveau-des-vins-de-bergerac/
LOCATION:Le Vin qui Parle – Faidherbe –\, 30\, rue Faidherbe\, Paris\, 75011\, France
CATEGORIES:Dégustations gratuites
ATTACH;FMTTYPE=image/png:https://www.levinquiparle.fr/wp-content/uploads/2022/01/hauts-de-caillevel.png
ORGANIZER;CN="Le Vin Qui Parle":MAILTO:avotreservice@levinquiparle.fr
END:VEVENT
BEGIN:VEVENT
DTSTART;TZID=Europe/Paris:20220304T173000
DTEND;TZID=Europe/Paris:20220304T200000
DTSTAMP:20260419T195238
CREATED:20220124T185349Z
LAST-MODIFIED:20220125T102113Z
UID:10000189-1646415000-1646424000@www.levinquiparle.fr
SUMMARY:Le merveilleux renouveau des vins de Bergerac
DESCRIPTION:[vc_row][vc_column][vc_column_text] \nDégustation libre et gratuite : les vins bergeracois des Hauts de Caillevel\n\nAu Vin qui Parle\, nous avons été séduits par le château des Hauts de Caillevel\, dans le Sud du Bergerac\, en Dordogne. \nEtendu sur 18 hectares autour de paysages à couper le souffle\, ce domaine propose des vins incroyables de précision et d’arômes. Pas moins de 11 cépages sont représentés ici (sauvignon\, ugni blanc\, chenin\, merlot\, malbec\, cabernets\,…). Pas étonnant qu’il soit question de reconnaître des grands crus dans cette région ! \nPierre-Etienne et Charlotte Serey ont repris le domaine des Hauts de Caillevel en 2018. Passionnés par la nature\, ils se sont installés ici avec leurs 4 jeunes enfants après avoir travaillé 8 ans dans l’ingénierie aéronautique et dans la gestion de librairie. \n\n\nUne reconversion qui apporte beaucoup de fraîcheur à leurs vins. \nNous vous invitons à venir les découvrir ce vendredi 4 mars dans notre cave du 12e. \nEt à poser toutes vos questions à Pierre-Etienne\, que vous vouliez vous reconvertir au métier de vigneron\, ou pas ! 😉 \nPrésentation du pass sanitaire obligatoire. \n\n\nCuvées en dégustation : \n\nFruissance 2019\nFleur de Roche 2018\nL’Atypique 2018\nTerres Chaudes 2018\n\n-15% sur les cuvées en dégustation [/vc_column_text][/vc_column][/vc_row]
URL:https://www.levinquiparle.fr/evenement/le-merveilleux-renouveau-des-vins-de-bergerac-2/
LOCATION:Le Vin qui Parle – Nation –\, 12 place de la Nation\, Paris\, 75012\, France
CATEGORIES:Dégustations gratuites
ATTACH;FMTTYPE=image/png:https://www.levinquiparle.fr/wp-content/uploads/2022/01/hauts-de-caillevel.png
ORGANIZER;CN="Le Vin Qui Parle":MAILTO:avotreservice@levinquiparle.fr
END:VEVENT
BEGIN:VEVENT
DTSTART;TZID=Europe/Paris:20220310T173000
DTEND;TZID=Europe/Paris:20220310T200000
DTSTAMP:20260419T195238
CREATED:20220304T151451Z
LAST-MODIFIED:20220304T162020Z
UID:10000196-1646933400-1646942400@www.levinquiparle.fr
SUMMARY:Le Pinot Noir\, en France et au-delà !
DESCRIPTION:[vc_row][vc_column][vc_column_text] \nDégustation libre et gratuite : le Pinot Noir\, en France et au-delà \nCette semaine\, nous vous proposons une dégustation libre spéciale Pinot Noir. \nCe cépage est une véritable star en Bourgogne\, et bien sûr nous vous y emmènerons avec un excellent vin rouge des Côtes Chalonnaises. \nMais nous vous avons aussi dégoté des pépites ailleurs en France\, et de par le monde. \nAlors\, venez voyager avec nous en Lorraine\, en Vendée\, en Auvergne\, en Nouvelle-Zélande\, en Autriche et au Chili 🙂 \n\nPrésentation du pass sanitaire obligatoire. \n\n\nCuvées en dégustation : \n\nBourgogne Pinot Noir\,  AOC Bourgogne\,  Domaine Laurent Cognard.\nReflets\, Domaine Saint Nicolas\, Vin de France (domaine situé en Vendée).\nTradition Rouge\, AOC Côtes de Toul\, Domaine Claude Vosgien.\nCerise sur le Gâteau\,  Domaine de la Croix Arpin\, IGP Puy de Dôme.\nWeingut Ponzichter\, Domaine Weninger\,  vin du Burgenland en Autriche.\nExpression Réserve Pinot Noir\, Domaine Villard\, vin de la vallée de Casablanca au Chili.\nDashwood Pinot Noir\, vin de la vallée de Marlborough en Nouvelle Zélande.\n\n-15% sur les cuvées en dégustation [/vc_column_text][/vc_column][/vc_row]
URL:https://www.levinquiparle.fr/evenement/le-pinot-noir-en-france-et-au-dela/
LOCATION:Le Vin qui Parle – Nation –\, 12 place de la Nation\, Paris\, 75012\, France
CATEGORIES:Dégustations gratuites
ATTACH;FMTTYPE=image/jpeg:https://www.levinquiparle.fr/wp-content/uploads/2022/03/Degustation-libre-Pinot-Noir.jpg
ORGANIZER;CN="Le Vin Qui Parle":MAILTO:avotreservice@levinquiparle.fr
END:VEVENT
BEGIN:VEVENT
DTSTART;TZID=Europe/Paris:20220311T173000
DTEND;TZID=Europe/Paris:20220311T200000
DTSTAMP:20260419T195238
CREATED:20220304T155835Z
LAST-MODIFIED:20220304T161858Z
UID:10000197-1647019800-1647028800@www.levinquiparle.fr
SUMMARY:Le Pinot Noir\, en France et au-delà !
DESCRIPTION:[vc_row][vc_column][vc_column_text] \nDégustation libre et gratuite : le Pinot Noir\, en France et au-delà \nCette semaine\, nous vous proposons une dégustation libre spéciale Pinot Noir.\n\nCe cépage est une véritable star en Bourgogne\, et bien sûr nous vous y emmènerons avec un excellent vin rouge des Côtes Chalonnaises.\nMais nous vous avons aussi dégoté des pépites ailleurs en France\, et de par le monde.\n\nAlors\, venez voyager avec nous en Lorraine\, en Vendée\, en Auvergne\, en Nouvelle-Zélande\, en Autriche et au Chili 🙂\n\n  \nPrésentation du pass sanitaire obligatoire. \n\n\nCuvées en dégustation : \n\nBourgogne Pinot Noir\,  AOC Bourgogne\,  Domaine Laurent Cognard.\nReflets\, Domaine Saint Nicolas\, Vin de France (domaine situé en Vendée).\nTradition Rouge\, AOC Côtes de Toul\, Domaine Claude Vosgien.\nCerise sur le Gâteau\,  Domaine de la Croix Arpin\, IGP Puy de Dôme.\nWeingut Ponzichter\, Domaine Weninger\,  vin du Burgenland en Autriche.\nExpression Réserve Pinot Noir\, Domaine Villard\, vin de la vallée de Casablanca au Chili.\nDashwood Pinot Noir\, vin de la vallée de Marlborough en Nouvelle Zélande.\n\n-15% sur les cuvées en dégustation [/vc_column_text][/vc_column][/vc_row]
URL:https://www.levinquiparle.fr/evenement/le-pinot-noir-en-france-et-au-dela-2/
LOCATION:Le Vin qui Parle – Faidherbe –\, 30\, rue Faidherbe\, Paris\, 75011\, France
CATEGORIES:Dégustations gratuites
ATTACH;FMTTYPE=image/jpeg:https://www.levinquiparle.fr/wp-content/uploads/2022/03/Degustation-libre-Pinot-Noir.jpg
ORGANIZER;CN="Le Vin Qui Parle":MAILTO:avotreservice@levinquiparle.fr
END:VEVENT
BEGIN:VEVENT
DTSTART;TZID=Europe/Paris:20220318T173000
DTEND;TZID=Europe/Paris:20220318T200000
DTSTAMP:20260419T195238
CREATED:20220308T130300Z
LAST-MODIFIED:20220308T131112Z
UID:10000198-1647624600-1647633600@www.levinquiparle.fr
SUMMARY:Le soleil des Corbières\, avec Christelle Alias
DESCRIPTION:[vc_row][vc_column][vc_column_text] \nDégustation libre et gratuite : Le soleil des Corbières\, avec Christelle Alias  \nVous voulez vous réchauffer aux premiers rayons de soleil du printemps\, et ce en avant-première ? \nCe vendredi à la cave de Faidherbe\, nous accueillons Christelle Alias\, vigneronne au domaine Ste Marie des Crozes dans les Corbières. Cultivés et vinifiés en bio et biodynamie (et certaines cuvées en nature)\, ses raisins se transforment en vins intenses et gourmands. \nVenez rencontrer Christelle et déguster l’AOC Corbières sous un nouvel angle\, celui de la joie de vivre et de la légèreté 🙂 \n\nPrésentation du pass sanitaire obligatoire. \n\n\nCuvées en dégustation : \n\nLe Clandestin\, IGP Pays d’Oc\, vin blanc\nPremiers Pas sur la Lune\, AOC Corbières\, vin blanc\nLes Pipelettes\, AOC Corbières\, vin rouge\nRébellion\, IGP Pays d’Oc\, vin rouge\nLes Mains sur les hanches\, AOC Corbières\, vin rouge\nHector et Juliette\, AOC Corbières\, vin rouge\nOscarignan\, Vin de France\, vin rouge\nLes Fugitives (nature)\, AOC Corbières\, vin rouge éphémère et original\n\n-15% sur les cuvées en dégustation [/vc_column_text][/vc_column][/vc_row]
URL:https://www.levinquiparle.fr/evenement/le-soleil-des-corbieres-avec-christelle-alias/
LOCATION:Le Vin qui Parle – Faidherbe –\, 30\, rue Faidherbe\, Paris\, 75011\, France
CATEGORIES:Dégustations gratuites
ATTACH;FMTTYPE=image/jpeg:https://www.levinquiparle.fr/wp-content/uploads/2022/03/Christelle-Alias-e1646745047665.jpg
ORGANIZER;CN="Le Vin Qui Parle":MAILTO:avotreservice@levinquiparle.fr
END:VEVENT
BEGIN:VEVENT
DTSTART;TZID=Europe/Paris:20220319T103000
DTEND;TZID=Europe/Paris:20220319T130000
DTSTAMP:20260419T195238
CREATED:20220308T131225Z
LAST-MODIFIED:20220308T131225Z
UID:10000199-1647685800-1647694800@www.levinquiparle.fr
SUMMARY:Le soleil des Corbières\, avec Christelle Alias
DESCRIPTION:[vc_row][vc_column][vc_column_text] \nDégustation libre et gratuite : Le soleil des Corbières\, avec Christelle Alias  \nVous voulez vous réchauffer aux premiers rayons de soleil du printemps\, et ce en avant-première ? \nCe samedi à la cave de Nation\, nous accueillons Christelle Alias\, vigneronne au domaine Ste Marie des Crozes dans les Corbières. Cultivés et vinifiés en bio et biodynamie (et certaines cuvées en nature)\, ses raisins se transforment en vins intenses et gourmands. \nVenez rencontrer Christelle et déguster l’AOC Corbières sous un nouvel angle\, celui de la joie de vivre et de la légèreté 🙂 \n\nPrésentation du pass sanitaire obligatoire. \n\n\nCuvées en dégustation : \n\nLe Clandestin\, IGP Pays d’Oc\, vin blanc\nPremiers Pas sur la Lune\, AOC Corbières\, vin blanc\nLes Pipelettes\, AOC Corbières\, vin rouge\nRébellion\, IGP Pays d’Oc\, vin rouge\nLes Mains sur les hanches\, AOC Corbières\, vin rouge\nHector et Juliette\, AOC Corbières\, vin rouge\nOscarignan\, Vin de France\, vin rouge\nLes Fugitives (nature)\, AOC Corbières\, vin rouge éphémère et original\n\n-15% sur les cuvées en dégustation [/vc_column_text][/vc_column][/vc_row]
URL:https://www.levinquiparle.fr/evenement/le-soleil-des-corbieres-avec-christelle-alias-2/
LOCATION:Le Vin qui Parle – Nation –\, 12 place de la Nation\, Paris\, 75012\, France
CATEGORIES:Dégustations gratuites
ATTACH;FMTTYPE=image/jpeg:https://www.levinquiparle.fr/wp-content/uploads/2022/03/Christelle-Alias-e1646745047665.jpg
ORGANIZER;CN="Le Vin Qui Parle":MAILTO:avotreservice@levinquiparle.fr
END:VEVENT
BEGIN:VEVENT
DTSTART;TZID=Europe/Paris:20220325T173000
DTEND;TZID=Europe/Paris:20220325T200000
DTSTAMP:20260419T195238
CREATED:20220316T130418Z
LAST-MODIFIED:20220316T132510Z
UID:10000200-1648229400-1648238400@www.levinquiparle.fr
SUMMARY:A Bordeaux\, le plaisir n'attend plus le nombre d'années !
DESCRIPTION:[vc_row][vc_column][vc_column_text] \nDégustation libre et gratuite : Découvrez Bordeaux dans sa jeunesse !\n\nEt si nous démontions toutes nos idées reçues sur les vins de Bordeaux ?  \nCe vendredi\, à Nation\, nous vous proposons une sélection ultra gourmande en dégustation libre. \nQue ce soit dans le Libournais (St Emilion\, Pomerol)\, dans le Sauternais\, dans le Médoc ou dans les Côtes de Bordeaux\, vous serez étonnés par la rondeur des millésimes récents de ces régions. \nVenez rencontrer Isabelle Barron\, représentante des vins bordelais\, et vous en mettre plein le nez et les papilles ! \n\n\n  \n\n\nCuvées en dégustation : \n\nClos Puy Arnaud\, Les Ormeaux\, Castillon Côte-de-Bordeaux\, 2014\nChâteau l’Eden\,  Eden\, AOC Médoc\, 2016\nChâteau La Haye\, Fief de la Haye\, AOC St Estèphe\, 2018\nChâteau Bellevue Figeac\, AOC St Emilion Grand Cru\, 2018\nChâteau La Croix St  Vincent\, AOC Pomerol\, 2017\nChâteau Guiraud\, Petit Guiraud\, Sauternes\, 2019\n\n-15% sur les cuvées en dégustation [/vc_column_text][/vc_column][/vc_row]
URL:https://www.levinquiparle.fr/evenement/a-bordeaux-le-plaisir-nattend-plus-le-nombre-dannees/
LOCATION:Le Vin qui Parle – Nation –\, 12 place de la Nation\, Paris\, 75012\, France
CATEGORIES:Dégustations gratuites
ATTACH;FMTTYPE=image/jpeg:https://www.levinquiparle.fr/wp-content/uploads/2022/03/Mailing-Bordeaux-e1647437096737.jpg
ORGANIZER;CN="Le Vin Qui Parle":MAILTO:avotreservice@levinquiparle.fr
END:VEVENT
END:VCALENDAR