BEGIN:VCALENDAR
VERSION:2.0
PRODID:-//Le Vin Qui Parle - ECPv6.9.0//NONSGML v1.0//EN
CALSCALE:GREGORIAN
METHOD:PUBLISH
X-WR-CALNAME:Le Vin Qui Parle
X-ORIGINAL-URL:https://www.levinquiparle.fr
X-WR-CALDESC:Évènements pour Le Vin Qui Parle
REFRESH-INTERVAL;VALUE=DURATION:PT1H
X-Robots-Tag:noindex
X-PUBLISHED-TTL:PT1H
BEGIN:VTIMEZONE
TZID:Europe/Paris
BEGIN:DAYLIGHT
TZOFFSETFROM:+0100
TZOFFSETTO:+0200
TZNAME:CEST
DTSTART:20210328T010000
END:DAYLIGHT
BEGIN:STANDARD
TZOFFSETFROM:+0200
TZOFFSETTO:+0100
TZNAME:CET
DTSTART:20211031T010000
END:STANDARD
END:VTIMEZONE
BEGIN:VEVENT
DTSTART;TZID=Europe/Paris:20211201T203000
DTEND;TZID=Europe/Paris:20211201T223000
DTSTAMP:20260420T002707
CREATED:20211019T142522Z
LAST-MODIFIED:20211020T092309Z
UID:10000165-1638390600-1638397800@www.levinquiparle.fr
SUMMARY:Bordeaux vs Bourgogne : le Choc des Titans !
DESCRIPTION:[vc_row][vc_column][vc_column_text]Bordeaux ou Bourgogne ? \nDifficile pour les oenophiles de trancher entre ces deux régions viticoles tant elles produisent des nectars tout à la fois différents et divins ! \nVenez découvrir de grands vins de Bourgogne et de Bordeaux\, écouter l’histoire de nos vignerons\, apprendre ludiquement et comparer les styles ! \n5 verres de vins blancs et rouges vous seront servis autour de fromages et de charcuteries artisanales. Le 5e vin proposé sera soumis au vote final… alors\, serez-vous plutôt Bourgogne ou Bordeaux ?[/vc_column_text][/vc_column][/vc_row]
URL:https://www.levinquiparle.fr/evenement/bordeaux-vs-bourgogne-le-choc-des-titans/
LOCATION:Le Vin qui Parle – Faidherbe –\, 30\, rue Faidherbe\, Paris\, 75011\, France
CATEGORIES:Dégustations payantes
ORGANIZER;CN="Le Vin Qui Parle":MAILTO:avotreservice@levinquiparle.fr
END:VEVENT
BEGIN:VEVENT
DTSTART;TZID=Europe/Paris:20211202T173000
DTEND;TZID=Europe/Paris:20211202T200000
DTSTAMP:20260420T002707
CREATED:20211123T111532Z
LAST-MODIFIED:20211123T113521Z
UID:10000174-1638466200-1638475200@www.levinquiparle.fr
SUMMARY:La Bouche du Roi en Ile-de-France – Dégustation Libre et Gratuite
DESCRIPTION:[vc_row][vc_column][vc_column_text] \n\nLa renaissance des vins franciliens ! – La Bouche du Roi\, Davron (78)\n  \n\n\nPour cette dégustation inédite\, nous vous invitons à la découverte du domaine de la Bouche du Roi\, dans les Yvelines. \nCe domaine  en viticulture biologique a fait le pari du Nord en s’installant dans la plaine de Versailles. Il renoue avec l’Histoire de l’Ile-de-France\, qui était la plus grande région viticole de France à la fin du XVIIIe siècle. D’ailleurs\, dès 1588\, une poignée de sommeliers sélectionnaient et garantissaient la qualité des vins servis à Versailles : on les appelait la Bouche du Roi. \nVenez rencontrer Adrien et Julien et déguster leurs vins blancs et rouges : le “Louis d’Or” intense et beurré (chardonnay)\, le “Grand Lever” salin et floral (chenin)\, et les “Trois Corneilles” croquant et épicé (merlot). \nNous vous présenterons également leur cuvée collector\, Le Chai de la Tour Eiffel. Cette cuvée d’exception a été vinifiée en Octobre 2020\, et mise en bouteille au premier étage de la Tour Eiffel. \n  \n\n\nDégustation libre et gratuite \n-15% sur les cuvées en dégustation \n\n[/vc_column_text][/vc_column][/vc_row]
URL:https://www.levinquiparle.fr/evenement/la-bouche-du-roi-en-ile-de-france-degustation-libre-et-gratuite/
LOCATION:Le Vin qui Parle – St Germain –\, 64 boulevard Saint-Germain\, Paris\, 75005\, France
CATEGORIES:Dégustations gratuites
ATTACH;FMTTYPE=image/png:https://www.levinquiparle.fr/wp-content/uploads/2021/11/bouche-du-roi.png
ORGANIZER;CN="Le Vin Qui Parle":MAILTO:avotreservice@levinquiparle.fr
END:VEVENT
BEGIN:VEVENT
DTSTART;TZID=Europe/Paris:20211202T173000
DTEND;TZID=Europe/Paris:20211202T200000
DTSTAMP:20260420T002707
CREATED:20211123T111904Z
LAST-MODIFIED:20211123T113405Z
UID:10000175-1638466200-1638475200@www.levinquiparle.fr
SUMMARY:La Bouche du Roi en Ile-de-France - Dégustation libre et gratuite
DESCRIPTION:[vc_row][vc_column][vc_column_text] \n\nLa renaissance des vins franciliens ! – La Bouche du Roi\, Davron (78)\n  \n\n\nPour cette dégustation inédite\, nous vous invitons à la découverte du domaine de la Bouche du Roi\, dans les Yvelines. \nCe domaine  en viticulture biologique a fait le pari du Nord en s’installant dans la plaine de Versailles. Il renoue avec l’Histoire de l’Ile-de-France\, qui était la plus grande région viticole de France à la fin du XVIIIe siècle. D’ailleurs\, dès 1588\, une poignée de sommeliers sélectionnaient et garantissaient la qualité des vins servis à Versailles : on les appelait la Bouche du Roi. \nVenez rencontrer Adrien et Julien et déguster leurs vins blancs et rouges : le “Louis d’Or” intense et beurré (chardonnay)\, le “Grand Lever” salin et floral (chenin)\, et les “Trois Corneilles” croquant et épicé (merlot). \nNous vous présenterons également leur cuvée collector\, Le Chai de la Tour Eiffel. Cette cuvée d’exception a été vinifiée en Octobre 2020\, et mise en bouteille au premier étage de la Tour Eiffel. \n  \n\n\nDégustation libre et gratuite \n-15% sur les cuvées en dégustation \n\n[/vc_column_text][/vc_column][/vc_row]
URL:https://www.levinquiparle.fr/evenement/la-bouche-du-roi-en-ile-de-france-degustation-libre-et-gratuite-2/
LOCATION:Le Vin qui Parle – Faidherbe –\, 30\, rue Faidherbe\, Paris\, 75011\, France
CATEGORIES:Dégustations gratuites
ATTACH;FMTTYPE=image/png:https://www.levinquiparle.fr/wp-content/uploads/2021/11/bouche-du-roi.png
ORGANIZER;CN="Le Vin Qui Parle":MAILTO:avotreservice@levinquiparle.fr
END:VEVENT
BEGIN:VEVENT
DTSTART;TZID=Europe/Paris:20211207T203000
DTEND;TZID=Europe/Paris:20211207T223000
DTSTAMP:20260420T002707
CREATED:20211014T101029Z
LAST-MODIFIED:20211123T115011Z
UID:10000164-1638909000-1638916200@www.levinquiparle.fr
SUMMARY:Spécial fêtes : Champagnes !
DESCRIPTION:[vc_row][vc_column][vc_column_text]A l’approche des fêtes\, vous hésitez sur le champagne qui accompagnera votre repas ? \nOu tout simplement\, vous avez envie de passer un moment convivial et gourmand ? \nVenez découvrir la Champagne avec nous\, entendre l’histoire de nos vignerons\, et surtout goûter la différence entre un Blanc de Blancs\, un Blanc de Noirs ou encore un millésimé 🙂 \nLes 5 verres de champagne proposés seront accompagnés de fromages et de charcuteries artisanales. \nA vos bulles ![/vc_column_text][/vc_column][/vc_row]
URL:https://www.levinquiparle.fr/evenement/special-fetes-champagnes/
LOCATION:Le Vin qui Parle – Faidherbe –\, 30\, rue Faidherbe\, Paris\, 75011\, France
CATEGORIES:Dégustations payantes
ATTACH;FMTTYPE=image/jpeg:https://www.levinquiparle.fr/wp-content/uploads/2021/11/Magnum.jpg
ORGANIZER;CN="Le Vin Qui Parle":MAILTO:avotreservice@levinquiparle.fr
END:VEVENT
BEGIN:VEVENT
DTSTART;TZID=Europe/Paris:20211209T173000
DTEND;TZID=Europe/Paris:20211209T200000
DTSTAMP:20260420T002707
CREATED:20211123T112223Z
LAST-MODIFIED:20211123T113903Z
UID:10000176-1639071000-1639080000@www.levinquiparle.fr
SUMMARY:La Bouche du Roi en Ile-de-France - Dégustation libre et gratuite
DESCRIPTION:[vc_row][vc_column][vc_column_text] \n\nLa renaissance des vins franciliens ! – La Bouche du Roi\, Davron (78)\n\n\nPour cette dégustation inédite\, nous vous invitons à la découverte du domaine de la Bouche du Roi\, dans les Yvelines. \nCe domaine  en viticulture biologique a fait le pari du Nord en s’installant dans la plaine de Versailles. Il renoue avec l’Histoire de l’Ile-de-France\, qui était la plus grande région viticole de France à la fin du XVIIIe siècle. D’ailleurs\, dès 1588\, une poignée de sommeliers sélectionnaient et garantissaient la qualité des vins servis à Versailles : on les appelait la Bouche du Roi. \nVenez rencontrer Adrien et Julien et déguster leurs vins blancs et rouges : le “Louis d’Or” intense et beurré (chardonnay)\, le “Grand Lever” salin et floral (chenin)\, et les “Trois Corneilles” croquant et épicé (merlot). \nNous vous présenterons également leur cuvée collector\, Le Chai de la Tour Eiffel. Cette cuvée d’exception a été vinifiée en Octobre 2020\, et mise en bouteille au premier étage de la Tour Eiffel. \n  \n\n\nDégustation libre et gratuite \n-15% sur les cuvées en dégustation \n\n[/vc_column_text][/vc_column][/vc_row]
URL:https://www.levinquiparle.fr/evenement/la-bouche-du-roi-en-ile-de-france-degustation-libre-et-gratuite-3/
LOCATION:Le Vin qui Parle – Nation –\, 12 place de la Nation\, Paris\, 75012\, France
CATEGORIES:Dégustations gratuites
ATTACH;FMTTYPE=image/png:https://www.levinquiparle.fr/wp-content/uploads/2021/11/bouche-du-roi.png
ORGANIZER;CN="Le Vin Qui Parle":MAILTO:avotreservice@levinquiparle.fr
END:VEVENT
BEGIN:VEVENT
DTSTART;TZID=Europe/Paris:20211216T173000
DTEND;TZID=Europe/Paris:20211216T200000
DTSTAMP:20260420T002707
CREATED:20211212T115003Z
LAST-MODIFIED:20211212T115520Z
UID:10000182-1639675800-1639684800@www.levinquiparle.fr
SUMMARY:Dégustation libre et gratuite : champagnes !
DESCRIPTION:[vc_row][vc_column][vc_column_text]Préparez vos repas de fêtes ! \nNoël approche avec son florilège de mets exquis… et de vins ! \nVous hésitez encore sur le choix de vos champagnes ? Vous souhaitez les adapter en fonction de votre menu ou du moment du repas ? \nNous vous proposons ce jeudi la dégustation libre d’une sélection de champagnes tous différents les uns des autres : blanc de blancs\, blanc de noirs\, millésimé ou non\, brut ou nature… \nIl y aura de quoi prévoir un accord parfait tout au long de vos repas de fêtes\, que ce soit à l’apéritif\, en entrée\, en plat ou en dessert. \nRetrouvez-nous pour faire sauter les bouchons 🙂 \n  \n\nCuvées en dégustation : \n\nErnest Remy\, Blanc de Noirs millésimé 2012\nBertemes\, Champagne Grande Sélection Premier Cru “Un+Un”\nFrançoise Bedel\, Champagne Dis Vin Secret 2015\nVeuve Fourny\, Champagne Grande Réserve Premier Cru\n\n-15% de remise sur les cuvées en dégustation[/vc_column_text][/vc_column][/vc_row]
URL:https://www.levinquiparle.fr/evenement/7459/
LOCATION:Le Vin qui Parle – Nation –\, 12 place de la Nation\, Paris\, 75012\, France
CATEGORIES:Dégustations gratuites
ATTACH;FMTTYPE=image/jpeg:https://www.levinquiparle.fr/wp-content/uploads/2021/12/champagne.jpg
ORGANIZER;CN="Le Vin Qui Parle":MAILTO:avotreservice@levinquiparle.fr
END:VEVENT
END:VCALENDAR