BEGIN:VCALENDAR
VERSION:2.0
PRODID:-//Le Vin Qui Parle - ECPv6.9.0//NONSGML v1.0//EN
CALSCALE:GREGORIAN
METHOD:PUBLISH
X-WR-CALNAME:Le Vin Qui Parle
X-ORIGINAL-URL:https://www.levinquiparle.fr
X-WR-CALDESC:Évènements pour Le Vin Qui Parle
REFRESH-INTERVAL;VALUE=DURATION:PT1H
X-Robots-Tag:noindex
X-PUBLISHED-TTL:PT1H
BEGIN:VTIMEZONE
TZID:Europe/Paris
BEGIN:DAYLIGHT
TZOFFSETFROM:+0100
TZOFFSETTO:+0200
TZNAME:CEST
DTSTART:20210328T010000
END:DAYLIGHT
BEGIN:STANDARD
TZOFFSETFROM:+0200
TZOFFSETTO:+0100
TZNAME:CET
DTSTART:20211031T010000
END:STANDARD
END:VTIMEZONE
BEGIN:VEVENT
DTSTART;TZID=Europe/Paris:20211012T203000
DTEND;TZID=Europe/Paris:20211012T223000
DTSTAMP:20260420T034009
CREATED:20211006T103912Z
LAST-MODIFIED:20211008T092828Z
UID:10000159-1634070600-1634077800@www.levinquiparle.fr
SUMMARY:Battle vins blancs minéraux / vins blancs fruités
DESCRIPTION:[vc_row][vc_column][vc_column_text]En petit groupe limité à 10 personnes\, la dégustation se déroule autour de 5 vins\, accompagnés de planches de charcuterie du Sud-Ouest et de fromages de chez Stéphane Prémat (L’Univers du Fromage). \nBénéficiez également de -15% sur nos cuvées le soir de la dégustation.[/vc_column_text][/vc_column][/vc_row]
URL:https://www.levinquiparle.fr/evenement/battle-vins-blancs-mineraux-vins-blancs-fruites/
LOCATION:Le Vin qui Parle – Faidherbe –\, 30\, rue Faidherbe\, Paris\, 75011\, France
CATEGORIES:Dégustations payantes
ATTACH;FMTTYPE=image/jpeg:https://www.levinquiparle.fr/wp-content/uploads/2021/10/DPI-Vins-blancs-e1639121626117.jpg
ORGANIZER;CN="Le Vin Qui Parle":MAILTO:avotreservice@levinquiparle.fr
END:VEVENT
BEGIN:VEVENT
DTSTART;TZID=Europe/Paris:20211014T173000
DTEND;TZID=Europe/Paris:20211014T200000
DTSTAMP:20260420T034009
CREATED:20211006T112925Z
LAST-MODIFIED:20211011T150226Z
UID:10000161-1634232600-1634241600@www.levinquiparle.fr
SUMMARY:Election du meilleur vin de la cave !
DESCRIPTION:[vc_row][vc_column width=”1/2″][vc_single_image image=”6750″ img_size=”large”][/vc_column][vc_column width=”1/2″][vc_column_text]Dégustation de vins inédite  \nVenez élire LA meilleure bouteille de vin rouge de la cave ! \nAutour d’une dégustation gratuite d’une sélection de 8 bouteilles de vin parmi les tops ventes de notre cave. \nVote à bulletin secret 😉 \nEt comme dirait Denis : à la fin il n’en restera qu’un ! \nJeudi 14 octobre à partir de 17h30 à la cave de Faidherbe[/vc_column_text][/vc_column][/vc_row]
URL:https://www.levinquiparle.fr/evenement/election-du-meilleur-vin-de-la-cave/
LOCATION:Le Vin qui Parle – Faidherbe –\, 30\, rue Faidherbe\, Paris\, 75011\, France
CATEGORIES:Dégustations gratuites
ORGANIZER;CN="Le Vin Qui Parle":MAILTO:avotreservice@levinquiparle.fr
END:VEVENT
BEGIN:VEVENT
DTSTART;TZID=Europe/Paris:20211016T153000
DTEND;TZID=Europe/Paris:20211016T180000
DTSTAMP:20260420T034009
CREATED:20211006T113123Z
LAST-MODIFIED:20211011T150052Z
UID:10000162-1634398200-1634407200@www.levinquiparle.fr
SUMMARY:Election du meilleur vin de la cave !
DESCRIPTION:[vc_row][vc_column width=”1/2″][vc_single_image image=”6754″ img_size=”large”][/vc_column][vc_column width=”1/2″][vc_column_text]Dégustation de vins inédite  \nVenez élire LA meilleure bouteille de vin rouge de la cave ! \nAutour d’une dégustation gratuite d’une sélection de 8 bouteilles de vin parmi les tops ventes de notre cave. \nVote à bulletin secret 😉 \nEt comme dirait Denis : à la fin il n’en restera qu’un ! \nSamedi 16 octobre à partir de 15h30 à la cave de Saint Germain.[/vc_column_text][/vc_column][/vc_row]
URL:https://www.levinquiparle.fr/evenement/election-du-meilleur-vin-de-la-cave-2/
LOCATION:Le Vin qui Parle – St Germain –\, 64 boulevard Saint-Germain\, Paris\, 75005\, France
CATEGORIES:Dégustations gratuites
ORGANIZER;CN="Le Vin Qui Parle":MAILTO:avotreservice@levinquiparle.fr
END:VEVENT
BEGIN:VEVENT
DTSTART;TZID=Europe/Paris:20211028T203000
DTEND;TZID=Europe/Paris:20211028T223000
DTSTAMP:20260420T034009
CREATED:20211006T112305Z
LAST-MODIFIED:20211211T125006Z
UID:10000160-1635453000-1635460200@www.levinquiparle.fr
SUMMARY:Accord vins et fromages étrangers
DESCRIPTION:[vc_row][vc_column][vc_column_text]Ouvrons nos palais à d’autres vignes! \nBien-sûr\, la France est tellement riche en matière de vins qu’il ne suffira pas de toute une vie pour tous les découvrir. Alors\, que dire du monde entier ! \nLes savoir-faire\, les terroirs\, les cépages : tous ces paramètres diffèrent d’un pays (et d’un hémisphère !) à l’autre. \nNous vous donnons l’occasion de découvrir 5 vins du monde emblématiques de leur pays/région\, avec parfois des cuvées radicalement opposées à ce que l’on pourrait trouver en France. \nComme toujours\, la dégustation se déroule autour de charcuteries et de fromages (L’Univers du Fromage) pour toute la soirée. \nBénéficiez également de -15% sur nos cuvées le soir de la dégustation.[/vc_column_text][/vc_column][/vc_row]
URL:https://www.levinquiparle.fr/evenement/accord-vins-et-fromages-etrangers/
LOCATION:Le Vin qui Parle – Faidherbe –\, 30\, rue Faidherbe\, Paris\, 75011\, France
CATEGORIES:Dégustations payantes
ATTACH;FMTTYPE=image/jpeg:https://www.levinquiparle.fr/wp-content/uploads/2021/12/Map-Monde.jpg
ORGANIZER;CN="Le Vin Qui Parle":MAILTO:avotreservice@levinquiparle.fr
END:VEVENT
BEGIN:VEVENT
DTSTART;TZID=Europe/Paris:20211029T173000
DTEND;TZID=Europe/Paris:20211029T200000
DTSTAMP:20260420T034009
CREATED:20211020T095336Z
LAST-MODIFIED:20211020T095336Z
UID:10000166-1635528600-1635537600@www.levinquiparle.fr
SUMMARY:A la rencontre de nos jeunes talents !
DESCRIPTION:[vc_row][vc_column][vc_column_text]Dégustation libre avec les domaines des Carmels et des Gravennes 🙂 \nVenez à la rencontre de jeunes vignerons talentueux et passionnés ! \nEn 2010\, Sophie et Yorick ont repris 5 hectares de vignes dans les Côtes de Bordeaux\, qu’ils ont directement cultivés en agriculture biologique avec des influences biodynamiques. Ils visent à moyen terme une activité complémentaire de maraîchage. Au-delà des pratiques culturales et de la gestion du domaine\, Yorick et Sophie ont construit leur nid au beau milieu du Domaine Les Carmels\, et s’épanouissent en famille au contact direct de la Nature. \nEn parallèle\, dans la Drôme provençale (Rhône)\, c’est un peu la même aventure qui démarre : en 2011\, guidé par sa passion\, Luc reprend le domaine familial des Gravennes. Il est rapidement rejoint par son frère Rémi. En tant que vignerons indépendants\, ils perpétuent ensemble  une histoire familiale dans le respect de valeurs communes : protection du terroir et de son environnement (agriculture biologique et biodynamie)\, convivialité\, recherche constante d’équilibre et d’élégance. \nNos jeunes vignerons seront là pour vous parler de leur histoire\, de leurs vins\, et vous faire déguster leurs dernières pépites gratuitement ! \nVendredi 29 octobre à partir de 17h30 à la cave de Faidherbe.[/vc_column_text][/vc_column][/vc_row]
URL:https://www.levinquiparle.fr/evenement/a-la-rencontre-de-nos-jeunes-talents/
LOCATION:Le Vin qui Parle – Faidherbe –\, 30\, rue Faidherbe\, Paris\, 75011\, France
CATEGORIES:Dégustations gratuites
ATTACH;FMTTYPE=image/png:https://www.levinquiparle.fr/wp-content/uploads/2021/10/jeunes-talents.png
ORGANIZER;CN="Le Vin Qui Parle":MAILTO:avotreservice@levinquiparle.fr
END:VEVENT
BEGIN:VEVENT
DTSTART;TZID=Europe/Paris:20211030T153000
DTEND;TZID=Europe/Paris:20211030T180000
DTSTAMP:20260420T034009
CREATED:20211020T095542Z
LAST-MODIFIED:20211020T095542Z
UID:10000167-1635607800-1635616800@www.levinquiparle.fr
SUMMARY:A la rencontre de nos jeunes talents !
DESCRIPTION:[vc_row][vc_column][vc_column_text]Dégustation libre avec les domaines des Carmels et des Gravennes 🙂 \nVenez à la rencontre de jeunes vignerons talentueux et passionnés ! \nEn 2010\, Sophie et Yorick ont repris 5 hectares de vignes dans les Côtes de Bordeaux\, qu’ils ont directement cultivés en agriculture biologique avec des influences biodynamiques. Ils visent à moyen terme une activité complémentaire de maraîchage. Au-delà des pratiques culturales et de la gestion du domaine\, Yorick et Sophie ont construit leur nid au beau milieu du Domaine Les Carmels\, et s’épanouissent en famille au contact direct de la Nature. \nEn parallèle\, dans la Drôme provençale (Rhône)\, c’est un peu la même aventure qui démarre : en 2011\, guidé par sa passion\, Luc reprend le domaine familial des Gravennes. Il est rapidement rejoint par son frère Rémi. En tant que vignerons indépendants\, ils perpétuent ensemble  une histoire familiale dans le respect de valeurs communes : protection du terroir et de son environnement (agriculture biologique et biodynamie)\, convivialité\, recherche constante d’équilibre et d’élégance. \nNos jeunes vignerons seront là pour vous parler de leur histoire\, de leurs vins\, et vous faire déguster leurs dernières pépites gratuitement ! \nSamedi 30 octobre à partir de 15h30 à la cave de Saint Germain.[/vc_column_text][/vc_column][/vc_row]
URL:https://www.levinquiparle.fr/evenement/a-la-rencontre-de-nos-jeunes-talents-2/
LOCATION:Le Vin qui Parle – St Germain –\, 64 boulevard Saint-Germain\, Paris\, 75005\, France
CATEGORIES:Dégustations gratuites
ATTACH;FMTTYPE=image/png:https://www.levinquiparle.fr/wp-content/uploads/2021/10/jeunes-talents.png
ORGANIZER;CN="Le Vin Qui Parle":MAILTO:avotreservice@levinquiparle.fr
END:VEVENT
END:VCALENDAR