BEGIN:VCALENDAR
VERSION:2.0
PRODID:-//Le Vin Qui Parle - ECPv6.9.0//NONSGML v1.0//EN
CALSCALE:GREGORIAN
METHOD:PUBLISH
X-ORIGINAL-URL:https://www.levinquiparle.fr
X-WR-CALDESC:Évènements pour Le Vin Qui Parle
REFRESH-INTERVAL;VALUE=DURATION:PT1H
X-Robots-Tag:noindex
X-PUBLISHED-TTL:PT1H
BEGIN:VTIMEZONE
TZID:Europe/Paris
BEGIN:DAYLIGHT
TZOFFSETFROM:+0100
TZOFFSETTO:+0200
TZNAME:CEST
DTSTART:20250330T010000
END:DAYLIGHT
BEGIN:STANDARD
TZOFFSETFROM:+0200
TZOFFSETTO:+0100
TZNAME:CET
DTSTART:20251026T010000
END:STANDARD
END:VTIMEZONE
BEGIN:VEVENT
DTSTART;TZID=Europe/Paris:20250301T170000
DTEND;TZID=Europe/Paris:20250301T200000
DTSTAMP:20260419T163633
CREATED:20250218T105759Z
LAST-MODIFIED:20250222T175723Z
UID:10000273-1740848400-1740859200@www.levinquiparle.fr
SUMMARY:Dégustation Libre : domaine Terres d'Ocre
DESCRIPTION:Alerte coup de cœur \n  \nLa P’tite cave invite Florent Barichard\, vigneron du domaine Terres d’Ocre\, à vous faire déguster ses vins ! \n  \nLe domaine des terres d’Ocre  c’est tout d’abord une histoire de famille. Florent aujourd’hui à la tête du domaine raconte à travers ses vins 10 années d’expérience en France\, en Nouvelle-Zélande et en  Afrique du Sud\, pour atterrir en 2013 sur les terroirs de Saint Pourçain\, au cœur du poumon Auvergnat.  \nAu domaine\, on cultive essentiellement des cépages comme le Gamay noir\, le Pinot noir\, le Chardonnay et le Tressallier\, Florent compose ainsi des vins qui se caractérise dans la tonicité\, la fraîcheur et l’équilibre\, faisant du domaine Terres d’Ocres une véritable pépite du vignoble de la Loire. \nAlors si la découverte de cépages atypiques et la dégustation de vins gouleyants et frais vous intéresse : \n  \nA vos agendas car Florent sera présent de 17h à 20h à la P’tite cave le 1er Mars 2025 !  \n  \nA retrouver en dégustation : \nInstant T Blanc \nChardonnay 80% et Tressaillier 20% arômes d’agrumes\, de fruits blancs\, belle minéralité sur la finale. \nInstant T Rouge \nPinot noir 30% et Gamay 70% fruité\, gouleyant avec des notes épicées. \nLes Cailloux \n100% Pinot Noir teinté de poivre blanc avec des notes de cerises. \nTressailler \nTressallier 100% fruits blancs avec une pointe saline. \n 
URL:https://www.levinquiparle.fr/evenement/degustation-terresdocre-la-petite-cave/
LOCATION:La P’tite Cave\, 7 boulevard de Port-Royal\, Paris
CATEGORIES:Dégustations gratuites
ATTACH;FMTTYPE=image/jpeg:https://www.levinquiparle.fr/wp-content/uploads/2025/02/florent-barichard.jpg
ORGANIZER;CN="Le Vin Qui Parle":MAILTO:avotreservice@levinquiparle.fr
END:VEVENT
BEGIN:VEVENT
DTSTART;TZID=Europe/Paris:20250313T170000
DTEND;TZID=Europe/Paris:20250313T200000
DTSTAMP:20260419T163633
CREATED:20250308T105747Z
LAST-MODIFIED:20250308T123559Z
UID:10000279-1741885200-1741896000@www.levinquiparle.fr
SUMMARY:Rencontre Vigneronne à Nation et La P'tite Cave : domaine Des Aubuisières (Vouvray)
DESCRIPTION:Le Vin Qui Parle invite le domaine des Aubuisières (Vouvray)\, à vous faire déguster ses vins ! \n  \n\nArrivé en 1982 en pays Vouvrillon\, Bernard Fouquet perce les secrets des terroirs dès 1989 et 1990. Deux familles de sol se côtoient ici : argilo-calcaire et argilo-siliceux. L’ensemble du vignoble est conduit en enherbement permanent (semi de gazon).  \nLongtemps son second\, Charles Lesaffre a repris le domaine\, les traitements sont effectués selon la méthode de lutte raisonnée. \n\nFort d’un vignoble de 28 hectares\, le Domaine produit des vins tranquilles et effervescents droits\, francs et complexes issus d’un cépage 100% chenin : \n\n  \nSoyez présents présent de 17h à 20h : \n  \n à la cave de Nation 12 Pl. de la Nation\, 75012 Paris le 13 Mars 2025 !  \n à la P’tite Cave 7 Bd de Port-Royal\, 75013 Paris le 14 Mars 2025 ! \n  \nA retrouver en dégustation : \nCœur de Silex 100% Chenin \n fraicheur et vivacité laissent vite place à un arôme de miel
URL:https://www.levinquiparle.fr/evenement/rencontre-vigneronne-a-nation-et-la-ptite-cave-domaine-des-aubuisieres-vouvray/2025-03-13/
LOCATION:Le Vin qui Parle – Faidherbe –\, 30\, rue Faidherbe\, Paris\, 75011\, France
CATEGORIES:Dégustations gratuites
ATTACH;FMTTYPE=image/jpeg:https://www.levinquiparle.fr/wp-content/uploads/2025/03/charles.jpg
ORGANIZER;CN="Le Vin Qui Parle":MAILTO:avotreservice@levinquiparle.fr
END:VEVENT
BEGIN:VEVENT
DTSTART;TZID=Europe/Paris:20250314T170000
DTEND;TZID=Europe/Paris:20250314T200000
DTSTAMP:20260419T163633
CREATED:20250308T105747Z
LAST-MODIFIED:20250308T123559Z
UID:10000280-1741971600-1741982400@www.levinquiparle.fr
SUMMARY:Rencontre Vigneronne à Nation et La P'tite Cave : domaine Des Aubuisières (Vouvray)
DESCRIPTION:Le Vin Qui Parle invite le domaine des Aubuisières (Vouvray)\, à vous faire déguster ses vins ! \n  \n\nArrivé en 1982 en pays Vouvrillon\, Bernard Fouquet perce les secrets des terroirs dès 1989 et 1990. Deux familles de sol se côtoient ici : argilo-calcaire et argilo-siliceux. L’ensemble du vignoble est conduit en enherbement permanent (semi de gazon).  \nLongtemps son second\, Charles Lesaffre a repris le domaine\, les traitements sont effectués selon la méthode de lutte raisonnée. \n\nFort d’un vignoble de 28 hectares\, le Domaine produit des vins tranquilles et effervescents droits\, francs et complexes issus d’un cépage 100% chenin : \n\n  \nSoyez présents présent de 17h à 20h : \n  \n à la cave de Nation 12 Pl. de la Nation\, 75012 Paris le 13 Mars 2025 !  \n à la P’tite Cave 7 Bd de Port-Royal\, 75013 Paris le 14 Mars 2025 ! \n  \nA retrouver en dégustation : \nCœur de Silex 100% Chenin \n fraicheur et vivacité laissent vite place à un arôme de miel
URL:https://www.levinquiparle.fr/evenement/rencontre-vigneronne-a-nation-et-la-ptite-cave-domaine-des-aubuisieres-vouvray/2025-03-14/
LOCATION:Le Vin qui Parle – Faidherbe –\, 30\, rue Faidherbe\, Paris\, 75011\, France
CATEGORIES:Dégustations gratuites
ATTACH;FMTTYPE=image/jpeg:https://www.levinquiparle.fr/wp-content/uploads/2025/03/charles.jpg
ORGANIZER;CN="Le Vin Qui Parle":MAILTO:avotreservice@levinquiparle.fr
END:VEVENT
BEGIN:VEVENT
DTSTART;TZID=Europe/Paris:20250329T110000
DTEND;TZID=Europe/Paris:20250329T200000
DTSTAMP:20260419T163633
CREATED:20250324T164431Z
LAST-MODIFIED:20250324T171444Z
UID:10000286-1743246000-1743278400@www.levinquiparle.fr
SUMMARY:Samedi 29 Mars : Tous en Larzac ! Invitation à déguster dans toutes nos caves (Terrasses du Larzac) !
DESCRIPTION:Le Vin Qui Parle invite le domaine Clos du Serres (Terrasses du Larzac)\, à vous faire déguster ses vins !  \n  \n\nEn 2006 : Béatrice et Sébastien Fillon s’installent à Saint Jean de la Blaquière\,  45 km au Nord Ouest de Montpellier. encerclé par les montagnes du Larzac d’où le nom du domaine Clos du Serres (serres\, collines en occitan). \nIls bénéficient ainsi de deux climats : méditerranéen et montagnard leur permettant d’obtenir l’expression du terroir avec du fruit et de la fraîcheur. \n\nOrientés vers des extractions très douces\, ils vous feront découvrir leurs vins aux tanins fins et soyeux. \n\n\n\nIls seront exceptionnellement présents le 29 Mars 2025 : \n  \n11h00 à 14h00 à la cave de Nation 12 Pl. de la Nation\, 75012 Paris !  \n17h00 à 20h00 à la cave de Faidherbe 30 Rue Faidherbe\, 75011 Paris  \n  \nRassurez vous\, les vins seront aussi à déguster : \n  \nà la cave de Saint Germain des près 64 Bd Saint-Germain\, 75005 Paris \n à la P’tite Cave 7 Bd de Port-Royal\, 75013 Paris  ! \n  \nA retrouver en dégustation : \nPlan B : vin naturel et délicat\, léger\, avec son petit degrés\, au fruit éclatant. \nOeillade : cépage rare\, frais\, léger et épicé. \nLes Maros : fraîcheur et l’élégance\, tannins soyeux. \n  \nUne réduction exceptionnelle de 15% sur les cuvées dégustées sera disponible ! \n  \n 
URL:https://www.levinquiparle.fr/evenement/samedi-29-mars-tous-en-larzac-invitation-a-deguster-dans-toutes-nos-caves-terrasses-du-larzac/
LOCATION:Le Vin qui Parle – Faidherbe –\, 30\, rue Faidherbe\, Paris\, 75011\, France
CATEGORIES:Dégustations gratuites
ATTACH;FMTTYPE=image/jpeg:https://www.levinquiparle.fr/wp-content/uploads/2025/03/Closduserresvgnerons-scaled.jpg
ORGANIZER;CN="Le Vin Qui Parle":MAILTO:avotreservice@levinquiparle.fr
END:VEVENT
END:VCALENDAR