BEGIN:VCALENDAR
VERSION:2.0
PRODID:-//Le Vin Qui Parle - ECPv6.9.0//NONSGML v1.0//EN
CALSCALE:GREGORIAN
METHOD:PUBLISH
X-WR-CALNAME:Le Vin Qui Parle
X-ORIGINAL-URL:https://www.levinquiparle.fr
X-WR-CALDESC:Évènements pour Le Vin Qui Parle
REFRESH-INTERVAL;VALUE=DURATION:PT1H
X-Robots-Tag:noindex
X-PUBLISHED-TTL:PT1H
BEGIN:VTIMEZONE
TZID:Europe/Paris
BEGIN:DAYLIGHT
TZOFFSETFROM:+0100
TZOFFSETTO:+0200
TZNAME:CEST
DTSTART:20220327T010000
END:DAYLIGHT
BEGIN:STANDARD
TZOFFSETFROM:+0200
TZOFFSETTO:+0100
TZNAME:CET
DTSTART:20221030T010000
END:STANDARD
END:VTIMEZONE
BEGIN:VEVENT
DTSTART;TZID=Europe/Paris:20220409T103000
DTEND;TZID=Europe/Paris:20220409T130000
DTSTAMP:20260419T175528
CREATED:20220221T163221Z
LAST-MODIFIED:20220221T163419Z
UID:10000195-1649500200-1649509200@www.levinquiparle.fr
SUMMARY:Sur les Chenins de la Loire\, à Vouvray
DESCRIPTION:[vc_row][vc_column][vc_column_text] \nDégustation libre et gratuite : Découvrez les chenins de Mathieu Cosme !\n\nA tous les fans de chenin blanc\, cette dégustation est à inscrire dans vos tablettes ! \nCe samedi 9 avril\, nous accueillons Mathieu Cosme\, vigneron à Vouvray\, tout près du Château d’Amboise.  \nSon domaine\, le Domaine de Beaumont\, existe depuis 1930. Mathieu représente la 5e génération de vigneron à en récolter les fruits. \nLe terroir\, situé sur des coteaux le long de la Loire\, est composé de sols argileux avec la présence de silex et le sous-sol est fait de calcaire\, plus souvent appelé Tuffeau. \nIci\, le cheval et le vigneron accomplissent ensemble les labours dans les vieilles vignes de chenin. \nLe vignoble est intégralement conduit selon les principes de l’agriculture biologique depuis 2010\, avec une conversion officielle depuis 2014 pour une labellisation en 2017. De ce fait\, plus aucun désherbant et autre produit de synthèse ne sont utilisés depuis 2007\, date également depuis laquelle tous les sols sont travaillés à l’ancienne. \nVous êtes bienvenus pour rencontrer Mathieu\, poser toutes vos questions et déguster ses trois cuvées vouvrillonnes (un effervescent et deux vins blancs secs). A vos chenins ! \n\n\n\nPrésentation du pass sanitaire obligatoire. \n  \n\n\nCuvées en dégustation : \n\nFines Bulles\, AOC Vouvray (effervescent) – millésime 2019\nLes Promenards\, AOC Vouvray (vin blanc sec) – millésime 2021 en exclusivité\, tout droit sortie de cuve\nLes Enfers\, AOC Vouvray (vin blanc sec) – millésime 2020 \n\n-15% sur les cuvées en dégustation [/vc_column_text][/vc_column][/vc_row]
URL:https://www.levinquiparle.fr/evenement/sur-les-chenins-de-la-loire-a-vouvray-faidherbe/
LOCATION:Le Vin qui Parle – Faidherbe –\, 30\, rue Faidherbe\, Paris\, 75011\, France
CATEGORIES:Dégustations gratuites
ATTACH;FMTTYPE=image/jpeg:https://www.levinquiparle.fr/wp-content/uploads/2022/02/Labour-Cheval-Mathieu-Cosme.jpg
ORGANIZER;CN="Le Vin Qui Parle":MAILTO:avotreservice@levinquiparle.fr
END:VEVENT
END:VCALENDAR