BEGIN:VCALENDAR
VERSION:2.0
PRODID:-//Le Vin Qui Parle - ECPv6.9.0//NONSGML v1.0//EN
CALSCALE:GREGORIAN
METHOD:PUBLISH
X-ORIGINAL-URL:https://www.levinquiparle.fr
X-WR-CALDESC:Évènements pour Le Vin Qui Parle
REFRESH-INTERVAL;VALUE=DURATION:PT1H
X-Robots-Tag:noindex
X-PUBLISHED-TTL:PT1H
BEGIN:VTIMEZONE
TZID:Europe/Paris
BEGIN:DAYLIGHT
TZOFFSETFROM:+0100
TZOFFSETTO:+0200
TZNAME:CEST
DTSTART:20220327T010000
END:DAYLIGHT
BEGIN:STANDARD
TZOFFSETFROM:+0200
TZOFFSETTO:+0100
TZNAME:CET
DTSTART:20221030T010000
END:STANDARD
END:VTIMEZONE
BEGIN:VEVENT
DTSTART;TZID=Europe/Paris:20220311T173000
DTEND;TZID=Europe/Paris:20220311T200000
DTSTAMP:20260419T194431
CREATED:20220304T155835Z
LAST-MODIFIED:20220304T161858Z
UID:10000197-1647019800-1647028800@www.levinquiparle.fr
SUMMARY:Le Pinot Noir\, en France et au-delà !
DESCRIPTION:[vc_row][vc_column][vc_column_text] \nDégustation libre et gratuite : le Pinot Noir\, en France et au-delà \nCette semaine\, nous vous proposons une dégustation libre spéciale Pinot Noir.\n\nCe cépage est une véritable star en Bourgogne\, et bien sûr nous vous y emmènerons avec un excellent vin rouge des Côtes Chalonnaises.\nMais nous vous avons aussi dégoté des pépites ailleurs en France\, et de par le monde.\n\nAlors\, venez voyager avec nous en Lorraine\, en Vendée\, en Auvergne\, en Nouvelle-Zélande\, en Autriche et au Chili 🙂\n\n  \nPrésentation du pass sanitaire obligatoire. \n\n\nCuvées en dégustation : \n\nBourgogne Pinot Noir\,  AOC Bourgogne\,  Domaine Laurent Cognard.\nReflets\, Domaine Saint Nicolas\, Vin de France (domaine situé en Vendée).\nTradition Rouge\, AOC Côtes de Toul\, Domaine Claude Vosgien.\nCerise sur le Gâteau\,  Domaine de la Croix Arpin\, IGP Puy de Dôme.\nWeingut Ponzichter\, Domaine Weninger\,  vin du Burgenland en Autriche.\nExpression Réserve Pinot Noir\, Domaine Villard\, vin de la vallée de Casablanca au Chili.\nDashwood Pinot Noir\, vin de la vallée de Marlborough en Nouvelle Zélande.\n\n-15% sur les cuvées en dégustation [/vc_column_text][/vc_column][/vc_row]
URL:https://www.levinquiparle.fr/evenement/le-pinot-noir-en-france-et-au-dela-2/
LOCATION:Le Vin qui Parle – Faidherbe –\, 30\, rue Faidherbe\, Paris\, 75011\, France
CATEGORIES:Dégustations gratuites
ATTACH;FMTTYPE=image/jpeg:https://www.levinquiparle.fr/wp-content/uploads/2022/03/Degustation-libre-Pinot-Noir.jpg
ORGANIZER;CN="Le Vin Qui Parle":MAILTO:avotreservice@levinquiparle.fr
END:VEVENT
END:VCALENDAR