BEGIN:VCALENDAR
VERSION:2.0
PRODID:-//Le Vin Qui Parle - ECPv6.9.0//NONSGML v1.0//EN
CALSCALE:GREGORIAN
METHOD:PUBLISH
X-ORIGINAL-URL:https://www.levinquiparle.fr
X-WR-CALDESC:Évènements pour Le Vin Qui Parle
REFRESH-INTERVAL;VALUE=DURATION:PT1H
X-Robots-Tag:noindex
X-PUBLISHED-TTL:PT1H
BEGIN:VTIMEZONE
TZID:Europe/Paris
BEGIN:DAYLIGHT
TZOFFSETFROM:+0100
TZOFFSETTO:+0200
TZNAME:CEST
DTSTART:20220327T010000
END:DAYLIGHT
BEGIN:STANDARD
TZOFFSETFROM:+0200
TZOFFSETTO:+0100
TZNAME:CET
DTSTART:20221030T010000
END:STANDARD
END:VTIMEZONE
BEGIN:VEVENT
DTSTART;TZID=Europe/Paris:20220303T173000
DTEND;TZID=Europe/Paris:20220303T200000
DTSTAMP:20260419T194431
CREATED:20220124T184759Z
LAST-MODIFIED:20220125T102127Z
UID:10000188-1646328600-1646337600@www.levinquiparle.fr
SUMMARY:Le merveilleux renouveau des vins de Bergerac
DESCRIPTION:[vc_row][vc_column][vc_column_text] \nDégustation libre et gratuite : les vins bergeracois des Hauts de Caillevel\n\nAu Vin qui Parle\, nous avons été séduits par le château des Hauts de Caillevel\, dans le Sud du Bergerac\, en Dordogne. \nEtendu sur 18 hectares autour de paysages à couper le souffle\, ce domaine propose des vins incroyables de précision et d’arômes. Pas moins de 11 cépages sont représentés ici (sauvignon\, ugni blanc\, chenin\, merlot\, malbec\, cabernets\,…). Pas étonnant qu’il soit question de reconnaître des grands crus dans cette région ! \nPierre-Etienne et Charlotte Serey ont repris le domaine des Hauts de Caillevel en 2018. Passionnés par la nature\, ils se sont installés ici avec leurs 4 jeunes enfants après avoir travaillé 8 ans dans l’ingénierie aéronautique et dans la gestion de librairie. \n\n\nUne reconversion qui apporte beaucoup de fraîcheur à leurs vins. \nNous vous invitons à venir les découvrir ce jeudi 3 mars dans notre cave du 11e. \nEt à poser toutes vos questions à Pierre-Etienne\, que vous vouliez vous reconvertir au métier de vigneron\, ou pas ! 😉 \nPrésentation du pass sanitaire obligatoire. \n\n\nCuvées en dégustation : \n\nFruissance 2019\nFleur de Roche 2018\nL’Atypique 2018\nTerres Chaudes 2018\n\n-15% sur les cuvées en dégustation [/vc_column_text][/vc_column][/vc_row]
URL:https://www.levinquiparle.fr/evenement/le-merveilleux-renouveau-des-vins-de-bergerac/
LOCATION:Le Vin qui Parle – Faidherbe –\, 30\, rue Faidherbe\, Paris\, 75011\, France
CATEGORIES:Dégustations gratuites
ATTACH;FMTTYPE=image/png:https://www.levinquiparle.fr/wp-content/uploads/2022/01/hauts-de-caillevel.png
ORGANIZER;CN="Le Vin Qui Parle":MAILTO:avotreservice@levinquiparle.fr
END:VEVENT
END:VCALENDAR