BEGIN:VCALENDAR
VERSION:2.0
PRODID:-//Le Vin Qui Parle - ECPv6.9.0//NONSGML v1.0//EN
CALSCALE:GREGORIAN
METHOD:PUBLISH
X-WR-CALNAME:Le Vin Qui Parle
X-ORIGINAL-URL:https://www.levinquiparle.fr
X-WR-CALDESC:Évènements pour Le Vin Qui Parle
REFRESH-INTERVAL;VALUE=DURATION:PT1H
X-Robots-Tag:noindex
X-PUBLISHED-TTL:PT1H
BEGIN:VTIMEZONE
TZID:Europe/Paris
BEGIN:DAYLIGHT
TZOFFSETFROM:+0100
TZOFFSETTO:+0200
TZNAME:CEST
DTSTART:20220327T010000
END:DAYLIGHT
BEGIN:STANDARD
TZOFFSETFROM:+0200
TZOFFSETTO:+0100
TZNAME:CET
DTSTART:20221030T010000
END:STANDARD
END:VTIMEZONE
BEGIN:VEVENT
DTSTART;TZID=Europe/Paris:20220127T173000
DTEND;TZID=Europe/Paris:20220127T200000
DTSTAMP:20260419T223318
CREATED:20211228T165530Z
LAST-MODIFIED:20220125T102011Z
UID:10000185-1643304600-1643313600@www.levinquiparle.fr
SUMMARY:Voyage dans le Sud-Ouest au pays du Madiran et du Pacherenc
DESCRIPTION:[vc_row][vc_column][vc_column_text] \nDégustation libre et gratuite : découvrez les Châteaux Montus et Bouscassé\n\nEn 1980\, Alain Brumont a hérité de la propriété familiale du château Bouscassé\, près de Madiran\, dans le Sud-Ouest. Depuis\, il met tout son cœur et son talent à élaborer d’excellentes cuvées de Madiran et de Pacherenc du Vic-Bilh. Sur ces grands terroirs à flancs de coteaux\, les vignes de gros manseng\, de petit courbu ou encore de tannat expriment toutes leurs richesses calcaires et argileuses. \nEn parallèle\, Alain Brumont a acquis le célèbre château Montus\, situé sur un terroir à gros galets\, unique dans le Sud-Ouest. En 1985\, le Madiran du Château Montus bouscula la hiérarchie des grands vins rouges mythiques et fut remarqué dans le monde entier avec son cépage Tannat. Il est d’ailleurs surnommé “le Pétrus du Sud-Ouest” par une dizaine de critiques depuis 30 ans. \nVenez déguster les vins des châteaux Bouscassé et Montus en compagnie de Thomas Riant\, représentant du domaine Brumont. \nPrésentation du pass sanitaire obligatoire. \n\n\nCuvées en dégustation : \n\nLes Jardins philosophiques\, Pacherenc du Vic-Bihl sec\, château Bouscassé\nChacourbu\, Vin de France\, château Montus et Bouscassé\nTorus\, Madiran\, 2017\n2 cuvées surprises\n\n-15% sur les cuvées en dégustation [/vc_column_text][/vc_column][/vc_row]
URL:https://www.levinquiparle.fr/evenement/voyage-dans-le-sud-ouest-au-pays-du-madiran-et-du-pacherenc/
LOCATION:Le Vin qui Parle – Faidherbe –\, 30\, rue Faidherbe\, Paris\, 75011\, France
CATEGORIES:Dégustations gratuites
ATTACH;FMTTYPE=image/jpeg:https://www.levinquiparle.fr/wp-content/uploads/2021/12/montus.jpg
ORGANIZER;CN="Le Vin Qui Parle":MAILTO:avotreservice@levinquiparle.fr
END:VEVENT
END:VCALENDAR