BEGIN:VCALENDAR
VERSION:2.0
PRODID:-//Le Vin Qui Parle - ECPv6.9.0//NONSGML v1.0//EN
CALSCALE:GREGORIAN
METHOD:PUBLISH
X-WR-CALNAME:Le Vin Qui Parle
X-ORIGINAL-URL:https://www.levinquiparle.fr
X-WR-CALDESC:Évènements pour Le Vin Qui Parle
REFRESH-INTERVAL;VALUE=DURATION:PT1H
X-Robots-Tag:noindex
X-PUBLISHED-TTL:PT1H
BEGIN:VTIMEZONE
TZID:Europe/Paris
BEGIN:DAYLIGHT
TZOFFSETFROM:+0100
TZOFFSETTO:+0200
TZNAME:CEST
DTSTART:20220327T010000
END:DAYLIGHT
BEGIN:STANDARD
TZOFFSETFROM:+0200
TZOFFSETTO:+0100
TZNAME:CET
DTSTART:20221030T010000
END:STANDARD
END:VTIMEZONE
BEGIN:VEVENT
DTSTART;TZID=Europe/Paris:20220125T203000
DTEND;TZID=Europe/Paris:20220125T223000
DTSTAMP:20260419T223308
CREATED:20211125T105146Z
LAST-MODIFIED:20220124T154247Z
UID:10000178-1643142600-1643149800@www.levinquiparle.fr
SUMMARY:Soirée d'initiation à la dégustation
DESCRIPTION:[vc_row][vc_column][vc_column_text]Vous aimez le vin\, mais vous ne savez pas toujours comment en parler ? \nAu Vin qui Parle\, on vous propose une soirée spéciale pour maîtriser les bases de la dégustation de vin : vous apprendrez de manière ludique les diverses étapes de la dégustation\, vous développerez votre nez\, et vous saurez différencier les grands styles de vins. \nEn petit groupe limité à 12 personnes\, la dégustation se déroule autour de 5 vins\, accompagnés de planches de charcuterie du Sud-Ouest et de fromages de chez Stéphane Prémat (L’Univers du Fromage). \nBénéficiez également de -15% sur nos cuvées le soir de la dégustation.[/vc_column_text][/vc_column][/vc_row]
URL:https://www.levinquiparle.fr/evenement/soiree-dinitiation-a-la-degustation/
LOCATION:Le Vin qui Parle – Faidherbe –\, 30\, rue Faidherbe\, Paris\, 75011\, France
CATEGORIES:Dégustations payantes
ATTACH;FMTTYPE=image/jpeg:https://www.levinquiparle.fr/wp-content/uploads/2021/11/degustation_de_vin-scaled.jpg
ORGANIZER;CN="Le Vin Qui Parle":MAILTO:avotreservice@levinquiparle.fr
END:VEVENT
END:VCALENDAR