BEGIN:VCALENDAR
VERSION:2.0
PRODID:-//Le Vin Qui Parle - ECPv6.9.0//NONSGML v1.0//EN
CALSCALE:GREGORIAN
METHOD:PUBLISH
X-ORIGINAL-URL:https://www.levinquiparle.fr
X-WR-CALDESC:Évènements pour Le Vin Qui Parle
REFRESH-INTERVAL;VALUE=DURATION:PT1H
X-Robots-Tag:noindex
X-PUBLISHED-TTL:PT1H
BEGIN:VTIMEZONE
TZID:Europe/Paris
BEGIN:DAYLIGHT
TZOFFSETFROM:+0100
TZOFFSETTO:+0200
TZNAME:CEST
DTSTART:20210328T010000
END:DAYLIGHT
BEGIN:STANDARD
TZOFFSETFROM:+0200
TZOFFSETTO:+0100
TZNAME:CET
DTSTART:20211031T010000
END:STANDARD
END:VTIMEZONE
BEGIN:VEVENT
DTSTART;TZID=Europe/Paris:20211028T203000
DTEND;TZID=Europe/Paris:20211028T223000
DTSTAMP:20260420T031605
CREATED:20211006T112305Z
LAST-MODIFIED:20211211T125006Z
UID:10000160-1635453000-1635460200@www.levinquiparle.fr
SUMMARY:Accord vins et fromages étrangers
DESCRIPTION:[vc_row][vc_column][vc_column_text]Ouvrons nos palais à d’autres vignes! \nBien-sûr\, la France est tellement riche en matière de vins qu’il ne suffira pas de toute une vie pour tous les découvrir. Alors\, que dire du monde entier ! \nLes savoir-faire\, les terroirs\, les cépages : tous ces paramètres diffèrent d’un pays (et d’un hémisphère !) à l’autre. \nNous vous donnons l’occasion de découvrir 5 vins du monde emblématiques de leur pays/région\, avec parfois des cuvées radicalement opposées à ce que l’on pourrait trouver en France. \nComme toujours\, la dégustation se déroule autour de charcuteries et de fromages (L’Univers du Fromage) pour toute la soirée. \nBénéficiez également de -15% sur nos cuvées le soir de la dégustation.[/vc_column_text][/vc_column][/vc_row]
URL:https://www.levinquiparle.fr/evenement/accord-vins-et-fromages-etrangers/
LOCATION:Le Vin qui Parle – Faidherbe –\, 30\, rue Faidherbe\, Paris\, 75011\, France
CATEGORIES:Dégustations payantes
ATTACH;FMTTYPE=image/jpeg:https://www.levinquiparle.fr/wp-content/uploads/2021/12/Map-Monde.jpg
ORGANIZER;CN="Le Vin Qui Parle":MAILTO:avotreservice@levinquiparle.fr
END:VEVENT
END:VCALENDAR