BEGIN:VCALENDAR
VERSION:2.0
PRODID:-//Le Vin Qui Parle - ECPv6.9.0//NONSGML v1.0//EN
CALSCALE:GREGORIAN
METHOD:PUBLISH
X-WR-CALNAME:Le Vin Qui Parle
X-ORIGINAL-URL:https://www.levinquiparle.fr
X-WR-CALDESC:Évènements pour Le Vin Qui Parle
REFRESH-INTERVAL;VALUE=DURATION:PT1H
X-Robots-Tag:noindex
X-PUBLISHED-TTL:PT1H
BEGIN:VTIMEZONE
TZID:Europe/Paris
BEGIN:DAYLIGHT
TZOFFSETFROM:+0100
TZOFFSETTO:+0200
TZNAME:CEST
DTSTART:20210328T010000
END:DAYLIGHT
BEGIN:STANDARD
TZOFFSETFROM:+0200
TZOFFSETTO:+0100
TZNAME:CET
DTSTART:20211031T010000
END:STANDARD
END:VTIMEZONE
BEGIN:VEVENT
DTSTART;TZID=Europe/Paris:20211109T203000
DTEND;TZID=Europe/Paris:20211109T223000
DTSTAMP:20260420T000525
CREATED:20211014T094747Z
LAST-MODIFIED:20211025T165326Z
UID:10000163-1636489800-1636497000@www.levinquiparle.fr
SUMMARY:Dégustation en verre noir : laissez-vous surprendre !
DESCRIPTION:[vc_row][vc_column][vc_column_text]Avez-vous déjà dégusté des vins “à l’aveugle”\, c’est-à-dire sans  connaître leur couleur ?\nCet exercice est délicat pour bien des amoureux du vin\, amateurs comme professionnels ! L’œil contribue pour beaucoup à l’idée que l’on se fait du vin.\nAu cours de cette soirée\, nous vous proposerons 5 vins à l’aveugle\, et vous risquez d’être surpris en pensant boire un vin rouge alors qu’il s’agit en fait d’un vin blanc !\nNous vous donnerons quelques astuces pour ne pas tomber dans le panneau\, et aussi quelques éléments de dégustation.[/vc_column_text][/vc_column][/vc_row]
URL:https://www.levinquiparle.fr/evenement/degustation-en-verre-noir-laissez-vous-surprendre/
LOCATION:Le Vin qui Parle – Faidherbe –\, 30\, rue Faidherbe\, Paris\, 75011\, France
CATEGORIES:Dégustations payantes
ORGANIZER;CN="Le Vin Qui Parle":MAILTO:avotreservice@levinquiparle.fr
END:VEVENT
BEGIN:VEVENT
DTSTART;TZID=Europe/Paris:20211116T173000
DTEND;TZID=Europe/Paris:20211116T200000
DTSTAMP:20260420T000525
CREATED:20211106T130237Z
LAST-MODIFIED:20211108T161515Z
UID:10000168-1637083800-1637092800@www.levinquiparle.fr
SUMMARY:Les Merveilles de Saint Pourçain - Dégustation Libre et Gratuite
DESCRIPTION:[vc_row][vc_column width=”1/2″][vc_single_image image=”7076″ img_size=”large”][/vc_column][vc_column width=”1/2″][vc_column_text]Les Merveilles de Saint-Pourçain – Domaine Les Terres d’Ocre \nSitué à Châtel-de-Neuvre\, au cœur de l’Auvergne (c’est le début de Loire !)\, le domaine Les Terres d’Ocre est avant tout l’aventure de trois passionnés : Valérie et Éric\, propriétaires du domaine\, et Florent\, leur neveu. Partageant la même passion pour le vin\, l’oncle\, la tante et le neveu mettent chacun leur savoir-faire au service des amateurs de bons crus. \nLes raisins du domaine sont vendangés manuellement et cultivés de manière biologique. \nCette semaine\, Florent Barichard vient à votre rencontre dans nos caves 🙂 \nVous aurez l’occasion d’échanger avec lui tout en dégustant ses vins rouges (pinot noir et gamay) et ses vins blancs (chardonnay et tressallier). \nVenez nombreux rencontrer ce vigneron passionné et passionnant ! \nDégustation Libre et Gratuite \n-15% sur les cuvées en dégustation[/vc_column_text][/vc_column][/vc_row]
URL:https://www.levinquiparle.fr/evenement/7075/
LOCATION:Le Vin qui Parle – Faidherbe –\, 30\, rue Faidherbe\, Paris\, 75011\, France
CATEGORIES:Dégustations gratuites
ATTACH;FMTTYPE=image/jpeg:https://www.levinquiparle.fr/wp-content/uploads/2021/11/florent-barichard-e1636539979530.jpg
ORGANIZER;CN="Le Vin Qui Parle":MAILTO:avotreservice@levinquiparle.fr
END:VEVENT
BEGIN:VEVENT
DTSTART;TZID=Europe/Paris:20211127T103000
DTEND;TZID=Europe/Paris:20211127T133000
DTSTAMP:20260420T000525
CREATED:20211106T134233Z
LAST-MODIFIED:20211108T161758Z
UID:10000170-1638009000-1638019800@www.levinquiparle.fr
SUMMARY:Les Grands Vins d'Anjou - Dégustation Libre et Gratuite
DESCRIPTION:[vc_row][vc_column width=”1/2″][vc_single_image image=”7084″ img_size=”large”][/vc_column][vc_column width=”1/2″][vc_column_text] \n\nLes Grands Vins d’Anjou – Château de la Roulerie\, Philippe Germain\n\n\nLe Château de la Roulerie est dirigé par Philippe Germain autour des Coteaux du Layon\, en vallée de la Loire. Il produit des vins sur cette appellation\, mais aussi en Anjou. Il dispose de 42 hectares\, principalement sur des sols schisteux. \nLe Château de La Roulerie travaille en agriculture biologique. Il propose de superbes cuvées sur les cépages typiques de l’appellation : Cabernet-franc pour les rouges et Chenin pour les blancs. Le Château de La Roulerie est reconnu pour la qualité incroyable de ses Coteaux du Layon. \nVenez rencontrer Philippe et déguster ses pépites en blancs liquoreux comme en rouge ! \nDégustation libre et gratuite \n-15% sur les cuvées en dégustation \n\n[/vc_column_text][/vc_column][/vc_row]
URL:https://www.levinquiparle.fr/evenement/les-grands-vins-danjou-degustation-libre-et-gratuite/
LOCATION:Le Vin qui Parle – Faidherbe –\, 30\, rue Faidherbe\, Paris\, 75011\, France
CATEGORIES:Dégustations gratuites
ATTACH;FMTTYPE=image/png:https://www.levinquiparle.fr/wp-content/uploads/2021/11/Philippe-Germain-Chateau-de-la-Roulerie.png
ORGANIZER;CN="Le Vin Qui Parle":MAILTO:avotreservice@levinquiparle.fr
END:VEVENT
END:VCALENDAR