BEGIN:VCALENDAR
VERSION:2.0
PRODID:-//Le Vin Qui Parle - ECPv6.9.0//NONSGML v1.0//EN
CALSCALE:GREGORIAN
METHOD:PUBLISH
X-WR-CALNAME:Le Vin Qui Parle
X-ORIGINAL-URL:https://www.levinquiparle.fr
X-WR-CALDESC:Évènements pour Le Vin Qui Parle
REFRESH-INTERVAL;VALUE=DURATION:PT1H
X-Robots-Tag:noindex
X-PUBLISHED-TTL:PT1H
BEGIN:VTIMEZONE
TZID:Europe/Paris
BEGIN:DAYLIGHT
TZOFFSETFROM:+0100
TZOFFSETTO:+0200
TZNAME:CEST
DTSTART:20250330T010000
END:DAYLIGHT
BEGIN:STANDARD
TZOFFSETFROM:+0200
TZOFFSETTO:+0100
TZNAME:CET
DTSTART:20251026T010000
END:STANDARD
END:VTIMEZONE
BEGIN:VEVENT
DTSTART;TZID=Europe/Paris:20251031T170000
DTEND;TZID=Europe/Paris:20251031T193000
DTSTAMP:20260419T231335
CREATED:20251011T144637Z
LAST-MODIFIED:20251011T144637Z
UID:10000307-1761930000-1761939000@www.levinquiparle.fr
SUMMARY:Dégustation vigneronne avec Julie Fuchs : Les cépages alsaciens !
DESCRIPTION:Le Vin Qui Parle vous emmène sur la route de Ribeauvillé\, en Alsace\, avec Julie Fuchs ! \nLes coteaux d’Alsace murmurent déjà leurs secrets dans le verre…Nous vous invitons à venir les découvrir\, lors d’une dégustation privilégiée des vins du Domaine Henry Fuchs\, en présence de la vigneronne Julie Fuchs. \nLe domaine Henry Fuchs est une petite entreprise familiale implantée au cœur de la route des vins d’Alsace à Ribeauvillé. Leur philosophie ? “Un bon vin est le fruit d’un travail rigoureux de la vigne.” \nAinsi la famille Fuchs et sa joyeuse petite équipe met tout en œuvre pour produire des vins biologiques\, purs et élégants\, reflets des cépages et des magnifiques terroirs dont ils proviennent. \nDu Riesling lumineux au Gewurztraminer voluptueux\, laissez-vous guider par la passion d’une vigneronne qui sculpte ses vins avec autant de finesse que de sincérité. \n-10% de remise sur les cuvées en dégustation
URL:https://www.levinquiparle.fr/evenement/degustation-vigneronne-avec-julie-fuchs-les-cepages-alsaciens-2/
LOCATION:Le Vin qui Parle – St Germain –\, 64 boulevard Saint-Germain\, Paris\, 75005\, France
CATEGORIES:Dégustations gratuites
ATTACH;FMTTYPE=image/jpeg:https://www.levinquiparle.fr/wp-content/uploads/2025/10/Paul-_-Julie-Fuchs.jpg
ORGANIZER;CN="Le Vin Qui Parle":MAILTO:avotreservice@levinquiparle.fr
END:VEVENT
END:VCALENDAR