BEGIN:VCALENDAR
VERSION:2.0
PRODID:-//Le Vin Qui Parle - ECPv6.9.0//NONSGML v1.0//EN
CALSCALE:GREGORIAN
METHOD:PUBLISH
X-ORIGINAL-URL:https://www.levinquiparle.fr
X-WR-CALDESC:Évènements pour Le Vin Qui Parle
REFRESH-INTERVAL;VALUE=DURATION:PT1H
X-Robots-Tag:noindex
X-PUBLISHED-TTL:PT1H
BEGIN:VTIMEZONE
TZID:Europe/Paris
BEGIN:DAYLIGHT
TZOFFSETFROM:+0100
TZOFFSETTO:+0200
TZNAME:CEST
DTSTART:20240331T010000
END:DAYLIGHT
BEGIN:STANDARD
TZOFFSETFROM:+0200
TZOFFSETTO:+0100
TZNAME:CET
DTSTART:20241027T010000
END:STANDARD
END:VTIMEZONE
BEGIN:VEVENT
DTSTART;TZID=Europe/Paris:20240606T170000
DTEND;TZID=Europe/Paris:20240606T200000
DTSTAMP:20260421T033705
CREATED:20240604T164550Z
LAST-MODIFIED:20240605T084507Z
UID:10000255-1717693200-1717704000@www.levinquiparle.fr
SUMMARY:Dégustation libre et gratuite : Les spiritueux à l'honneur !
DESCRIPTION:A l’approche de la fête des Pères\, Le Vin Qui Parle organise une vente privée spéciale spiritueux du 6 au 16 juin ! \nVous avez envie d’en savoir plus sur le whisky\, le gin ou encore le mezcal ? \nAlors rendez-vous le 6 juin entre 17h00 et 20h00 dans notre cave du 12 Place de la Nation\, pour déguster des références d’exception : \n\nUn superbe whisky Single Malt de la Maison Fontagard\, vieillit en fûts de vieux Cognac\, cultivé\, malté\, brassé\, distillé et vieilli en France\nLa nouvelle édition de Melifera\, un gin français envoûtant\, artisanal et bio fabriqué en Charente Maritime\nUn splendide whisky de riz : le Kujira Inari\nLe mezcal Amores Verde : un mezcal artisanal à l’aromatique pure et riche\nLe Single Malt Nc’Nean : une nouvelle distillerie Bio en Ecosse à découvrir absolument !\n\nJusqu’à 25% de remise en boutique ou en ligne sur les références dégustées.
URL:https://www.levinquiparle.fr/evenement/degustation-libre-et-gratuite-les-spiritueux-a-lhonneur/
LOCATION:Le Vin qui Parle – Nation –\, 12 place de la Nation\, Paris\, 75012\, France
CATEGORIES:Dégustations gratuites
ATTACH;FMTTYPE=image/png:https://www.levinquiparle.fr/wp-content/uploads/2024/06/VP-SPI-NAT-0606.png
ORGANIZER;CN="Le Vin Qui Parle":MAILTO:avotreservice@levinquiparle.fr
END:VEVENT
END:VCALENDAR