BEGIN:VCALENDAR
VERSION:2.0
PRODID:-//Le Vin Qui Parle - ECPv6.9.0//NONSGML v1.0//EN
CALSCALE:GREGORIAN
METHOD:PUBLISH
X-ORIGINAL-URL:https://www.levinquiparle.fr
X-WR-CALDESC:Évènements pour Le Vin Qui Parle
REFRESH-INTERVAL;VALUE=DURATION:PT1H
X-Robots-Tag:noindex
X-PUBLISHED-TTL:PT1H
BEGIN:VTIMEZONE
TZID:Europe/Paris
BEGIN:DAYLIGHT
TZOFFSETFROM:+0100
TZOFFSETTO:+0200
TZNAME:CEST
DTSTART:20250330T010000
END:DAYLIGHT
BEGIN:STANDARD
TZOFFSETFROM:+0200
TZOFFSETTO:+0100
TZNAME:CET
DTSTART:20251026T010000
END:STANDARD
END:VTIMEZONE
BEGIN:VEVENT
DTSTART;TZID=Europe/Paris:20250920T170000
DTEND;TZID=Europe/Paris:20250920T200000
DTSTAMP:20260420T004049
CREATED:20250917T171652Z
LAST-MODIFIED:20250917T171652Z
UID:10000305-1758387600-1758398400@www.levinquiparle.fr
SUMMARY:La Bourgogne sous toutes ses coutures
DESCRIPTION:Le vignoble de la Bourgogne est l’équation parfaite entre des terroirs uniques façonnés par le temps et le talent de vignerons réputés dans le monde entier.“La Bourgogne sous toutes ses coutures” s’est une invitation à sillonner du nord au sud les côtes bourguignonnes. Du chablisien au mâconnais\, découvrez le charme des nuances parfumés du pinot noir et l’audace et l’élégance du chardonnay… Chaque verre raconte une histoire de passion et d’authenticité. \nAu programme : \n👉 Une dégustation libre et gratuite de nos cuvées sélectionnées : Chablis\, Hautes-Côtes de Nuits\, Savigny-les-Beaune\, Mercurey et enfin Mâcon. \n📅 Date : 20 septembre 2025🕔 Heure : de 17h à 20h📍 Lieu : Le Vin Qui Parle 5ème\, 11ème et 12 ème et la P’tite Cave \nUne bouteille dégustée achetée\, vous bénéficiez de -15% de remise.
URL:https://www.levinquiparle.fr/evenement/la-bourgogne-sous-toutes-ses-coutures/
LOCATION:Le Vin qui Parle – St Germain –\, 64 boulevard Saint-Germain\, Paris\, 75005\, France
CATEGORIES:Dégustations gratuites
ATTACH;FMTTYPE=image/png:https://www.levinquiparle.fr/wp-content/uploads/2025/09/sous-toutes.png
ORGANIZER;CN="Le Vin Qui Parle":MAILTO:avotreservice@levinquiparle.fr
END:VEVENT
END:VCALENDAR