BEGIN:VCALENDAR
VERSION:2.0
PRODID:-//Le Vin Qui Parle - ECPv6.9.0//NONSGML v1.0//EN
CALSCALE:GREGORIAN
METHOD:PUBLISH
X-WR-CALNAME:Le Vin Qui Parle
X-ORIGINAL-URL:https://www.levinquiparle.fr
X-WR-CALDESC:Évènements pour Le Vin Qui Parle
REFRESH-INTERVAL;VALUE=DURATION:PT1H
X-Robots-Tag:noindex
X-PUBLISHED-TTL:PT1H
BEGIN:VTIMEZONE
TZID:Europe/Paris
BEGIN:DAYLIGHT
TZOFFSETFROM:+0100
TZOFFSETTO:+0200
TZNAME:CEST
DTSTART:20240331T010000
END:DAYLIGHT
BEGIN:STANDARD
TZOFFSETFROM:+0200
TZOFFSETTO:+0100
TZNAME:CET
DTSTART:20241027T010000
END:STANDARD
END:VTIMEZONE
BEGIN:VEVENT
DTSTART;TZID=Europe/Paris:20240125T203000
DTEND;TZID=Europe/Paris:20240125T223000
DTSTAMP:20260419T150234
CREATED:20221228T101221Z
LAST-MODIFIED:20231115T162513Z
UID:10000215-1706214600-1706221800@www.levinquiparle.fr
SUMMARY:Soirée dégustation en verre noir : Laissez vous surprendre ! - jeudi 25 janvier 2024
DESCRIPTION:[vc_row][vc_column][vc_column_text]Avez-vous déjà dégusté des vins « à l’aveugle »\, c’est-à-dire sans  connaître leur couleur ?\nCet exercice est délicat pour bien des amoureux du vin\, amateurs comme professionnels ! L’œil contribue pour beaucoup à l’idée que l’on se fait du vin.\nAu cours de cette soirée\, nous vous proposerons 5 vins à l’aveugle\, et vous risquez d’être surpris en pensant boire un vin rouge alors qu’il s’agit en fait d’un vin blanc !\nNous vous donnerons quelques astuces pour ne pas tomber dans le panneau\, et aussi quelques éléments de dégustation. \n  \nBénéficiez également de -15% sur nos cuvées le soir de la dégustation. [/vc_column_text][/vc_column][/vc_row]
URL:https://www.levinquiparle.fr/evenement/soiree-degustation-en-verre-noir-laissez-vous-surprendre/
LOCATION:Le Vin qui Parle – Faidherbe –\, 30\, rue Faidherbe\, Paris\, 75011\, France
CATEGORIES:Dégustations payantes
ATTACH;FMTTYPE=image/jpeg:https://www.levinquiparle.fr/wp-content/uploads/2022/12/degustation-aveugle_verres-noirs-scaled-e1655894341854.jpg
ORGANIZER;CN="Le Vin Qui Parle":MAILTO:avotreservice@levinquiparle.fr
END:VEVENT
END:VCALENDAR