BEGIN:VCALENDAR
VERSION:2.0
PRODID:-//Le Vin Qui Parle - ECPv6.9.0//NONSGML v1.0//EN
CALSCALE:GREGORIAN
METHOD:PUBLISH
X-ORIGINAL-URL:https://www.levinquiparle.fr
X-WR-CALDESC:Évènements pour Le Vin Qui Parle
REFRESH-INTERVAL;VALUE=DURATION:PT1H
X-Robots-Tag:noindex
X-PUBLISHED-TTL:PT1H
BEGIN:VTIMEZONE
TZID:Europe/Paris
BEGIN:DAYLIGHT
TZOFFSETFROM:+0100
TZOFFSETTO:+0200
TZNAME:CEST
DTSTART:20230326T010000
END:DAYLIGHT
BEGIN:STANDARD
TZOFFSETFROM:+0200
TZOFFSETTO:+0100
TZNAME:CET
DTSTART:20231029T010000
END:STANDARD
END:VTIMEZONE
BEGIN:VEVENT
DTSTART;TZID=Europe/Paris:20231026T160000
DTEND;TZID=Europe/Paris:20231026T200000
DTSTAMP:20260419T234706
CREATED:20231020T070045Z
LAST-MODIFIED:20231019T140740Z
UID:10000228-1698336000-1698350400@www.levinquiparle.fr
SUMMARY:Découverte des vins liquoreux sculptés dans la douceur
DESCRIPTION: Entre 1er Grands Crus et vins Biologiques\, les vins liquoreux et VDN se réinventent.\nRendez-vous le Jeudi 26 octobre au 12 place de la Nation\, de 16h00 à 20h00.\n  \nLe temps façonne et l’Homme veille avec patience à l’élevage de ces nectars qui font rayonner les terroirs français. \nSauternes\, Monbazillac\, Coteaux du Layon\, Coteaux de l’Aubance\, Banyuls autant d’appellations qui véhiculent l’identité de ces vins suaves. \nLaissez vous porter par ces vins riches\, généreux et frais en ce mois d’octobre qui accompagnerons vos recettes pour toutes les occasions! \nNous vous attendons dans nos caves pour les déguster avec des accords aux saveurs inattendues. \n  \nEt en plus\, bénéficiez de -10% sur les cuvées en dégustation !
URL:https://www.levinquiparle.fr/evenement/decouverte-des-vins-liquoreux-sculptes-dans-la-douceur-3/
LOCATION:Le Vin qui Parle – Nation –\, 12 place de la Nation\, Paris\, 75012\, France
CATEGORIES:Dégustations gratuites
ATTACH;FMTTYPE=image/png:https://www.levinquiparle.fr/wp-content/uploads/2023/10/Capture-decran-2023-10-11-162715.png
ORGANIZER;CN="Le Vin Qui Parle":MAILTO:avotreservice@levinquiparle.fr
END:VEVENT
END:VCALENDAR