BEGIN:VCALENDAR
VERSION:2.0
PRODID:-//Le Vin Qui Parle - ECPv6.9.0//NONSGML v1.0//EN
CALSCALE:GREGORIAN
METHOD:PUBLISH
X-WR-CALNAME:Le Vin Qui Parle
X-ORIGINAL-URL:https://www.levinquiparle.fr
X-WR-CALDESC:Évènements pour Le Vin Qui Parle
REFRESH-INTERVAL;VALUE=DURATION:PT1H
X-Robots-Tag:noindex
X-PUBLISHED-TTL:PT1H
BEGIN:VTIMEZONE
TZID:Europe/Paris
BEGIN:DAYLIGHT
TZOFFSETFROM:+0100
TZOFFSETTO:+0200
TZNAME:CEST
DTSTART:20230326T010000
END:DAYLIGHT
BEGIN:STANDARD
TZOFFSETFROM:+0200
TZOFFSETTO:+0100
TZNAME:CET
DTSTART:20231029T010000
END:STANDARD
END:VTIMEZONE
BEGIN:VEVENT
DTSTART;TZID=Europe/Paris:20230613T203000
DTEND;TZID=Europe/Paris:20230613T223000
DTSTAMP:20260420T020357
CREATED:20221228T123232Z
LAST-MODIFIED:20230109T180123Z
UID:10000219-1686688200-1686695400@www.levinquiparle.fr
SUMMARY:Soirée dégustation : Vins blancs frais du Nord - mardi 13 juin
DESCRIPTION:[vc_row][vc_column][vc_column_text]Pour cette soirée dégustation venez découvrir les vignobles septentrionaux de la France. \nNous explorerons les vins blancs minéraux issus de régions situées au Nord de  la Loire : Bourgogne\, Alsace\, Bugey\, Loire et autres découvertes. \nAu climat tempéré\, océanique et frais les vignobles du Nord disposent de nombreux cépages autochtones et terroirs typiques : Nous vous expliquerons quelles sont leurs spécificités. \nEn petit groupe limité à 12 personnes\,  la dégustation se déroulera autour de 5 vins\, accompagnés de planches de charcuteries du Sud-Ouest et de fromages de chez Stéphane Prémat (L’Univers du fromage). \n  \nBénéficiez également de -15% sur nos cuvées le soir de la dégustation. [/vc_column_text][/vc_column][/vc_row]
URL:https://www.levinquiparle.fr/evenement/soiree-degustation-vins-blancs-frais-du-nord/
LOCATION:Le Vin qui Parle – Faidherbe –\, 30\, rue Faidherbe\, Paris\, 75011\, France
CATEGORIES:Dégustations payantes
ATTACH;FMTTYPE=image/png:https://www.levinquiparle.fr/wp-content/uploads/2022/12/Soiree-vins-blancs-frais-du-nord-1.png
ORGANIZER;CN="Le Vin Qui Parle":MAILTO:avotreservice@levinquiparle.fr
END:VEVENT
END:VCALENDAR