BEGIN:VCALENDAR
VERSION:2.0
PRODID:-//Le Vin Qui Parle - ECPv6.9.0//NONSGML v1.0//EN
CALSCALE:GREGORIAN
METHOD:PUBLISH
X-WR-CALNAME:Le Vin Qui Parle
X-ORIGINAL-URL:https://www.levinquiparle.fr
X-WR-CALDESC:Évènements pour Le Vin Qui Parle
REFRESH-INTERVAL;VALUE=DURATION:PT1H
X-Robots-Tag:noindex
X-PUBLISHED-TTL:PT1H
BEGIN:VTIMEZONE
TZID:Europe/Paris
BEGIN:DAYLIGHT
TZOFFSETFROM:+0100
TZOFFSETTO:+0200
TZNAME:CEST
DTSTART:20220327T010000
END:DAYLIGHT
BEGIN:STANDARD
TZOFFSETFROM:+0200
TZOFFSETTO:+0100
TZNAME:CET
DTSTART:20221030T010000
END:STANDARD
END:VTIMEZONE
BEGIN:VEVENT
DTSTART;TZID=Europe/Paris:20220325T173000
DTEND;TZID=Europe/Paris:20220325T200000
DTSTAMP:20260419T212451
CREATED:20220316T130418Z
LAST-MODIFIED:20220316T132510Z
UID:10000200-1648229400-1648238400@www.levinquiparle.fr
SUMMARY:A Bordeaux\, le plaisir n'attend plus le nombre d'années !
DESCRIPTION:[vc_row][vc_column][vc_column_text] \nDégustation libre et gratuite : Découvrez Bordeaux dans sa jeunesse !\n\nEt si nous démontions toutes nos idées reçues sur les vins de Bordeaux ?  \nCe vendredi\, à Nation\, nous vous proposons une sélection ultra gourmande en dégustation libre. \nQue ce soit dans le Libournais (St Emilion\, Pomerol)\, dans le Sauternais\, dans le Médoc ou dans les Côtes de Bordeaux\, vous serez étonnés par la rondeur des millésimes récents de ces régions. \nVenez rencontrer Isabelle Barron\, représentante des vins bordelais\, et vous en mettre plein le nez et les papilles ! \n\n\n  \n\n\nCuvées en dégustation : \n\nClos Puy Arnaud\, Les Ormeaux\, Castillon Côte-de-Bordeaux\, 2014\nChâteau l’Eden\,  Eden\, AOC Médoc\, 2016\nChâteau La Haye\, Fief de la Haye\, AOC St Estèphe\, 2018\nChâteau Bellevue Figeac\, AOC St Emilion Grand Cru\, 2018\nChâteau La Croix St  Vincent\, AOC Pomerol\, 2017\nChâteau Guiraud\, Petit Guiraud\, Sauternes\, 2019\n\n-15% sur les cuvées en dégustation [/vc_column_text][/vc_column][/vc_row]
URL:https://www.levinquiparle.fr/evenement/a-bordeaux-le-plaisir-nattend-plus-le-nombre-dannees/
LOCATION:Le Vin qui Parle – Nation –\, 12 place de la Nation\, Paris\, 75012\, France
CATEGORIES:Dégustations gratuites
ATTACH;FMTTYPE=image/jpeg:https://www.levinquiparle.fr/wp-content/uploads/2022/03/Mailing-Bordeaux-e1647437096737.jpg
ORGANIZER;CN="Le Vin Qui Parle":MAILTO:avotreservice@levinquiparle.fr
END:VEVENT
END:VCALENDAR