BEGIN:VCALENDAR
VERSION:2.0
PRODID:-//Le Vin Qui Parle - ECPv6.9.0//NONSGML v1.0//EN
CALSCALE:GREGORIAN
METHOD:PUBLISH
X-ORIGINAL-URL:https://www.levinquiparle.fr
X-WR-CALDESC:Évènements pour Le Vin Qui Parle
REFRESH-INTERVAL;VALUE=DURATION:PT1H
X-Robots-Tag:noindex
X-PUBLISHED-TTL:PT1H
BEGIN:VTIMEZONE
TZID:Europe/Paris
BEGIN:DAYLIGHT
TZOFFSETFROM:+0100
TZOFFSETTO:+0200
TZNAME:CEST
DTSTART:20220327T010000
END:DAYLIGHT
BEGIN:STANDARD
TZOFFSETFROM:+0200
TZOFFSETTO:+0100
TZNAME:CET
DTSTART:20221030T010000
END:STANDARD
END:VTIMEZONE
BEGIN:VEVENT
DTSTART;TZID=Europe/Paris:20220211T173000
DTEND;TZID=Europe/Paris:20220211T200000
DTSTAMP:20260419T225154
CREATED:20220127T120513Z
LAST-MODIFIED:20220208T110051Z
UID:10000190-1644600600-1644609600@www.levinquiparle.fr
SUMMARY:La renaissance des cépages historiques du Languedoc
DESCRIPTION:[vc_row][vc_column][vc_column_text] \nDégustation libre et gratuite : \nDécouvrez des cépages rares avec le Domaine Ampelhus !\n\nCette semaine\, nous vous invitons à faire connaissance avec des cépages que vous n’avez sans doute jamais goûtés ! Et pour cause\, ils avaient disparu du paysage viticole languedocien depuis la fin du XIXe siècle\, remplacés par des cépages internationaux. \nDe jeunes vignerons s’attachent aujourd’hui à réhabiliter ces cépages ancestraux et autochtones. \nC’est le cas de Jena et Thibaud\, du domaine Ampelhus\, près de Lunel. Venez rencontrer Jena dans nos caves et plonger au cœur de l’histoire viticole du terroir languedocien ! \n\n\nPrésentation du pass sanitaire obligatoire. \n\n\nCuvées en dégustation : \n\nPiquepoul Noir\, vin rouge\nCépages Rares\, vin rouge\nPicardan\, vin blanc sec\n\n-15% sur les cuvées en dégustation [/vc_column_text][/vc_column][/vc_row]
URL:https://www.levinquiparle.fr/evenement/la-renaissance-des-cepages-historiques-du-languedoc/
LOCATION:Le Vin qui Parle – Nation –\, 12 place de la Nation\, Paris\, 75012\, France
CATEGORIES:Dégustations gratuites
ATTACH;FMTTYPE=image/jpeg:https://www.levinquiparle.fr/wp-content/uploads/2022/01/Ampelhus_vignerons.jpg
ORGANIZER;CN="Le Vin Qui Parle":MAILTO:avotreservice@levinquiparle.fr
END:VEVENT
END:VCALENDAR