BEGIN:VCALENDAR
VERSION:2.0
PRODID:-//Le Vin Qui Parle - ECPv6.9.0//NONSGML v1.0//EN
CALSCALE:GREGORIAN
METHOD:PUBLISH
X-WR-CALNAME:Le Vin Qui Parle
X-ORIGINAL-URL:https://www.levinquiparle.fr
X-WR-CALDESC:Évènements pour Le Vin Qui Parle
REFRESH-INTERVAL;VALUE=DURATION:PT1H
X-Robots-Tag:noindex
X-PUBLISHED-TTL:PT1H
BEGIN:VTIMEZONE
TZID:Europe/Paris
BEGIN:DAYLIGHT
TZOFFSETFROM:+0100
TZOFFSETTO:+0200
TZNAME:CEST
DTSTART:20220327T010000
END:DAYLIGHT
BEGIN:STANDARD
TZOFFSETFROM:+0200
TZOFFSETTO:+0100
TZNAME:CET
DTSTART:20221030T010000
END:STANDARD
END:VTIMEZONE
BEGIN:VEVENT
DTSTART;TZID=Europe/Paris:20220210T203000
DTEND;TZID=Europe/Paris:20220210T223000
DTSTAMP:20260419T225005
CREATED:20211125T110809Z
LAST-MODIFIED:20220208T162716Z
UID:10000179-1644525000-1644532200@www.levinquiparle.fr
SUMMARY:Le chenin sous toutes ses formes : les vins blancs de Loire
DESCRIPTION:[vc_row][vc_column][vc_column_text]Qui dit vin blanc de Loire\,  pense chenin à un moment ou à un autre. Le chenin est le cépage blanc le plus emblématique de la Loire. \nCapable de créer une multitude de vins différents\, il satisfait les palais à toutes les occasions : du simple apéritif au plat élaboré ou encore au dessert gourmand. \nVenez découvrir cet incroyable cépage lors de cette soirée inédite : crémant\, vin sec léger\, vin sec puissant\, ou encore vin moelleux… il y en aura pour tous les goûts ! \nEn petit groupe limité à 12 personnes\, la dégustation se déroule autour de 5 vins\, accompagnés de planches de charcuterie du Sud-Ouest et de fromages de chez Stéphane Prémat (L’Univers du Fromage). \nBénéficiez également de -15% sur nos cuvées le soir de la dégustation.[/vc_column_text][/vc_column][/vc_row]
URL:https://www.levinquiparle.fr/evenement/chenin-sous-toutes-ses-formes-vins-blancs-loire/
LOCATION:Le Vin qui Parle – Nation –\, 12 place de la Nation\, Paris\, 75012\, France
CATEGORIES:Dégustations payantes
ATTACH;FMTTYPE=image/jpeg:https://www.levinquiparle.fr/wp-content/uploads/2021/10/DPI-Vins-blancs-e1639121626117.jpg
ORGANIZER;CN="Le Vin Qui Parle":MAILTO:avotreservice@levinquiparle.fr
END:VEVENT
END:VCALENDAR