BEGIN:VCALENDAR
VERSION:2.0
PRODID:-//Le Vin Qui Parle - ECPv6.9.0//NONSGML v1.0//EN
CALSCALE:GREGORIAN
METHOD:PUBLISH
X-ORIGINAL-URL:https://www.levinquiparle.fr
X-WR-CALDESC:Évènements pour Le Vin Qui Parle
REFRESH-INTERVAL;VALUE=DURATION:PT1H
X-Robots-Tag:noindex
X-PUBLISHED-TTL:PT1H
BEGIN:VTIMEZONE
TZID:Europe/Paris
BEGIN:DAYLIGHT
TZOFFSETFROM:+0100
TZOFFSETTO:+0200
TZNAME:CEST
DTSTART:20220327T010000
END:DAYLIGHT
BEGIN:STANDARD
TZOFFSETFROM:+0200
TZOFFSETTO:+0100
TZNAME:CET
DTSTART:20221030T010000
END:STANDARD
END:VTIMEZONE
BEGIN:VEVENT
DTSTART;TZID=Europe/Paris:20220113T173000
DTEND;TZID=Europe/Paris:20220113T200000
DTSTAMP:20260420T003034
CREATED:20211228T115125Z
LAST-MODIFIED:20220104T164530Z
UID:10000183-1642095000-1642104000@www.levinquiparle.fr
SUMMARY:Sur la route de Ribeauvillé avec la famille Fuchs
DESCRIPTION:[vc_row][vc_column][vc_column_text] \nDégustation libre et gratuite \nPaul et Julie Fuchs font partie de cette nouvelle génération de vignerons Alsaciens qui redoublent d’enthousiasme pour promouvoir les vins de leur région. Ils contribuent à changer l’image des vins d’Alsace liquoreux en offrant de la tension et beaucoup de finesse.  \nLes rieslings et pinots gris du domaine sont des exemples de minéralité et de tension. Le Gewurztraminer doux est d’une gourmandise absolue. La cuvée Alsace est un vin d’apéritif joyeux et agréable. \nVenez rencontrer Julie Fuchs ce jeudi 13/01 et découvrir les vins du domaine\, qui se partage entre plusieurs parcelles autour de Ribeauvillé.  \nUne région à découvrir absolument ! \n\nCuvées en dégustation : \n\nAlsace\nGewurztraminer 2019\nRiesling 2020\nRiesling Grand Cru Kirchberg 2019\n Pinot Gris Grand Cru Kirchberg 2019\nRiesling Hagel 2020\n\n -15% sur les cuvées en dégustation \n[/vc_column_text][/vc_column][/vc_row]
URL:https://www.levinquiparle.fr/evenement/sur-la-route-de-ribeauville-avec-la-famille-fuchs/
LOCATION:Le Vin qui Parle – Nation –\, 12 place de la Nation\, Paris\, 75012\, France
CATEGORIES:Dégustations gratuites
ATTACH;FMTTYPE=image/jpeg:https://www.levinquiparle.fr/wp-content/uploads/2021/12/Paul-_-Julie-Fuchs.jpg
ORGANIZER;CN="Le Vin Qui Parle":MAILTO:avotreservice@levinquiparle.fr
END:VEVENT
BEGIN:VEVENT
DTSTART;TZID=Europe/Paris:20220113T203000
DTEND;TZID=Europe/Paris:20220113T223000
DTSTAMP:20260420T003034
CREATED:20211125T104245Z
LAST-MODIFIED:20211214T160729Z
UID:10000177-1642105800-1642113000@www.levinquiparle.fr
SUMMARY:Ce soir\, ça va pinoter : le pinot noir du Nord au Sud
DESCRIPTION:[vc_row][vc_column][vc_column_text]Le Pinot Noir est très connu pour son élégance dans les grands vins rouges de Bourgogne. \nMais ce cépage s’exprime avec beaucoup de finesse dans d’autres régions de France. \nLors de cette soirée 100% vin rouge\, nous voyagerons au pays du pinot noir. Nous ferons halte en Bourgogne\, en Alsace\, en vallée de la Loire ou encore dans le Languedoc. \nEn petit groupe limité à 12 personnes\, la dégustation se déroule autour de 5 vins\, accompagnés de planches de charcuterie du Sud-Ouest et de fromages de chez Stéphane Prémat (L’Univers du Fromage). \nBénéficiez également de -15% sur nos cuvées le soir de la dégustation.[/vc_column_text][/vc_column][/vc_row]
URL:https://www.levinquiparle.fr/evenement/ce-soir-ca-va-pinoter-le-pinot-noir-du-nord-au-sud/
LOCATION:Le Vin qui Parle – Faidherbe –\, 30\, rue Faidherbe\, Paris\, 75011\, France
CATEGORIES:Dégustations payantes
ATTACH;FMTTYPE=image/jpeg:https://www.levinquiparle.fr/wp-content/uploads/2021/11/Vignes-Pinot-noir-scaled.jpg
ORGANIZER;CN="Le Vin Qui Parle":MAILTO:avotreservice@levinquiparle.fr
END:VEVENT
END:VCALENDAR